{"text_format":"3","workbook":"xlsx","n_sheets":3,"sheets":["Relevamiento","Calificaciones","Decisión"],"not_rendered":{"images":3,"macros":1,"defined_names":5,"comments":2},"read":"whole","date_system":"1900"}

{"sheet":"Relevamiento","index":0,"n_rows":56,"n_cols":27,"rows_kept":56,"merged":[[32,0,32,1]]}
["Relevamiento para decisiones com múltiples Participantes y Aspectos"]
[null,"             IANCA - Instituto Argentino de Negociación, Conciliación y Arbitraje "]
[null," "]
["Decisión:","Responsabilidad sobre cuidado de Pareja de adultos mayores"]
[null,null,"© Miguel Ángel Martín "]
[]
["Opciones sobre las que deicidir"]
["Orden","Opción"]
[1,"Contunuar como siempre"]
[2,"Internar a los adultos mayores en Institución geriátrica"]
[3,"Internar a los adultos mayores en su propio domicilio"]
[4,"Establecimientode turnos a atención por parte de cada uno de los hijos"]
[5,"Atención por acompañantes especialistas"]
[6]
[7]
[8]
[9]
[10]
[]
["Participantes"]
["Orden","Nombre"]
["I","Andrea (Hija)"]
["II","Javier (esposo Andrea)"]
["III","Esteban (hijo)"]
["IV","Clarisa (esposa de Esteban)"]
["V ","Anibal (hijo)"]
["VI","Mabel (esposa de Anibal)"]
["VII"]
["VIII"]
["IX"]
["X"]
[]
["Aspectos Cuantificables",{"$nulls":4},{"$f":"$B$9","v":"Contunuar como siempre"},{"$f":"$B$10","v":"Internar a los adultos mayores en Institución geriátrica"},{"$f":"$B$11","v":"Internar a los adultos mayores en su propio domicilio"},{"$f":"$B$12","v":"Establecimientode turnos a atención por parte de cada uno de los hijos"},{"$f":"$B$13","v":"Atención por acompañantes especialistas"},{"$f":"$B$14","v":0},{"$f":"$B$15","v":0},{"$f":"$B$16","v":0},{"$f":"$B$17","v":0},{"$f":"$B$18","v":0}]
["Orden","Aspecto","Puntaje","Max","Min"]
["a","Costo periódico de la opción",20,null,"X",{"$nulls":11},{"$f":"IF(MIN(F$35:F$41)=0,1,MIN(F$35:F$41))","v":1},{"$f":"IF(MIN(G$35:G$41)=0,1,MIN(G$35:G$41))","v":1},{"$f":"IF(MIN(H$35:H$41)=0,1,MIN(H$35:H$41))","v":1},{"$f":"IF(MIN(I$35:I$41)=0,1,MIN(I$35:I$41))","v":1},{"$f":"IF(MIN(J$35:J$41)=0,1,MIN(J$35:J$41))","v":1},{"$f":"IF(MIN(K$35:K$41)=0,1,MIN(K$35:K$41))","v":1},1,1,1,1]
["b","Costo de culminación y cierre (de única vez)",20,null,"X",{"$nulls":11},{"$f":"MAX(F$35:F$41)","v":0},{"$f":"MAX(G$35:G$41)","v":0},{"$f":"MAX(H$35:H$41)","v":0},{"$f":"MAX(I$35:I$41)","v":0},{"$f":"MAX(J$35:J$41)","v":0},{"$f":"MAX(K$35:K$41)","v":0},0,0,0,0]
["c",{"$nulls":15},1,2,3,4,5,6,7,8,9,10]
["d",{"$nulls":14},"a",{"$f":"IF(F35=\"\",\"\",IF($E35=\"X\",Q$35/IF(F35=0,1,F35),F35/Q$36)*$C35)","v":""},"","","","","","","","","",{"$f":"IF(P35=\"\",\"\",IF(O35=\"X\",AA$35/IF(P35=0,1,P35),P35/AA$36)*$C35)","v":""}]
["e",{"$nulls":14},"b","","","","","","","","","","",{"$f":"IF(P36=\"\",\"\",IF(O36=\"X\",AA$35/IF(P36=0,1,P36),P36/AA$36)*$C36)","v":""}]
["f",{"$nulls":14},"c","","","","","","","","","",""]
["g",{"$nulls":14},"d","","","","","","","","","",""]
[{"$nulls":15},"e","","","","","","","","","",""]
["Aspectos Calificables",{"$nulls":14},"f","","","","","","","","","",""]
["Orden","Aspecto","Puntaje",{"$nulls":12},"g","","","","","","","","","",""]
["h","Tiempo de atención / dedicación",20,{"$nulls":13},{"$f":"IF(M35=\"\",\"\",IF(L35=\"X\",Y$35/IF(M35=0,1,M35),M35/Y$36)*$C35)","v":""},{"$f":"IF(M36=\"\",\"\",IF(L36=\"X\",Y$35/IF(M36=0,1,M36),M36/Y$36)*$C36)","v":""}]
["i","Calidad de atención que reciben los adultos mayores",30,{"$nulls":13},"a","b","c","d","e","f","g"]
["j","Preferencia de los adultos mayores",20,{"$nulls":12},1,{"$f":"$Q$38","v":""},{"$f":"$Q$39","v":""},{"$f":"$Q$40","v":""},{"$f":"$Q$41","v":""},{"$f":"$Q$42","v":""},{"$f":"$Q$43","v":""},{"$f":"$Q$44","v":""}]
["k",{"$nulls":14},2,{"$f":"$R$38","v":""},{"$f":"$R$39","v":""},{"$f":"$R$40","v":""},{"$f":"$R$41","v":""},{"$f":"$R$42","v":""},{"$f":"$R$43","v":""},{"$f":"$R$44","v":""}]
["l",{"$nulls":14},3,{"$f":"$S$38","v":""},{"$f":"$S$39","v":""},{"$f":"$S$40","v":""},{"$f":"$S$41","v":""},{"$f":"$S$42","v":""},{"$f":"$S$43","v":""},{"$f":"$S$44","v":""}]
["m",{"$nulls":14},4,{"$f":"$T$38","v":""},{"$f":"$T$39","v":""},{"$f":"$T$40","v":""},{"$f":"$T$41","v":""},{"$f":"$T$42","v":""},{"$f":"$T$43","v":""},{"$f":"$T$44","v":""}]
["n",{"$nulls":14},5,{"$f":"$U$38","v":""},{"$f":"$U$39","v":""},{"$f":"$U$40","v":""},{"$f":"$U$41","v":""},{"$f":"$U$42","v":""},{"$f":"$U$43","v":""},{"$f":"$U$44","v":""}]
[{"$nulls":15},6,{"$f":"$V$38","v":""},{"$f":"$V$39","v":""},{"$f":"$V$40","v":""},{"$f":"$V$41","v":""},{"$f":"$V$42","v":""},{"$f":"$V$43","v":""},{"$f":"$V$44","v":""}]
[{"$nulls":15},7,{"$f":"$W$38","v":""},{"$f":"$W$39","v":""},{"$f":"$W$40","v":""},{"$f":"$W$41","v":""},{"$f":"$W$42","v":""},{"$f":"$W$43","v":""},{"$f":"$W$44","v":""}]
[{"$nulls":15},8,{"$f":"$X$38","v":""},{"$f":"$X$39","v":""},{"$f":"$X$40","v":""},{"$f":"$X$41","v":""},{"$f":"$X$42","v":""},{"$f":"$X$43","v":""},{"$f":"$X$44","v":""}]
[{"$nulls":15},9,{"$f":"$Y$38","v":""},{"$f":"$Y$39","v":""},{"$f":"$Y$40","v":""},{"$f":"$Y$41","v":""},{"$f":"$Y$42","v":""},{"$f":"$Y$43","v":""},{"$f":"$Y$44","v":""}]
[{"$nulls":15},10,{"$f":"$Z$38","v":""},{"$f":"$Z$39","v":""},{"$f":"$Z$40","v":""},{"$f":"$Z$41","v":""},{"$f":"$Z$42","v":""},{"$f":"$Z$43","v":""},{"$f":"$Z$44","v":""}]

{"sheet":"Calificaciones","index":1,"n_rows":136,"n_cols":20,"rows_kept":136,"merged":[[7,1,7,7],[7,12,7,18],[33,1,33,7],[46,1,46,7],[59,1,59,7],[72,1,72,7],[85,1,85,7],[98,1,98,7],[111,1,111,7],[124,1,124,7]]}
["Calificaciones de participantes",{"$nulls":10},"Resultados de calificaciones de participantes"]
[{"$nulls":5},"IANCA - Instituto Argentino de Negociación, Conciliación y Arbitraje ",{"$nulls":10},"IANCA - Instituto Argentino de Negociación, Conciliación y Arbitraje "]
[null," ",{"$nulls":10}," "]
[{"$nulls":11},{"$f":"Relevamiento!M4","v":0}]
[{"$nulls":11},{"$f":"Relevamiento!M5","v":0}]
[]
[{"$nulls":7},"© Miguel Ángel Martín ",{"$nulls":10},"© Miguel Ángel Martín "]
["Participante I","Calificación del aspecto",{"$nulls":9},"Decisión","Calificación del aspecto"]
[{"$f":"Relevamiento!$B$22","v":"Andrea (Hija)"},{"$f":"Relevamiento!$B$45","v":"Tiempo de atención / dedicación"},{"$f":"Relevamiento!$B$46","v":"Calidad de atención que reciben los adultos mayores"},{"$f":"Relevamiento!$B$47","v":"Preferencia de los adultos mayores"},{"$f":"Relevamiento!$B$48","v":0},{"$f":"Relevamiento!$B$49","v":0},{"$f":"Relevamiento!$B$50","v":0},{"$f":"Relevamiento!$B$51","v":0},{"$nulls":3},"Total",{"$f":"Relevamiento!$B$45","v":"Tiempo de atención / dedicación"},{"$f":"Relevamiento!$B$46","v":"Calidad de atención que reciben los adultos mayores"},{"$f":"Relevamiento!$B$47","v":"Preferencia de los adultos mayores"},{"$f":"Relevamiento!$B$48","v":0},{"$f":"Relevamiento!$B$49","v":0},{"$f":"Relevamiento!$B$50","v":0},{"$f":"Relevamiento!$B$51","v":0}]
[{"$f":"Relevamiento!B$9","v":"Contunuar como siempre"},{"$nulls":10},{"$f":"Relevamiento!B$9","v":"Contunuar como siempre"},{"$f":"Relevamiento!$C$45*(M23/10)","v":{"$error":"#DIV/0!"}},{"$f":"Relevamiento!$C$45*(N23/10)","v":{"$error":"#DIV/0!"}},{"$f":"Relevamiento!$C$45*(O23/10)","v":{"$error":"#DIV/0!"}},{"$f":"Relevamiento!$C$45*(P23/10)","v":{"$error":"#DIV/0!"}},{"$f":"Relevamiento!$C$45*(Q23/10)","v":{"$error":"#DIV/0!"}},{"$f":"Relevamiento!$C$45*(R23/10)","v":{"$error":"#DIV/0!"}},{"$f":"Relevamiento!$C$45*(S23/10)","v":{"$error":"#DIV/0!"}}]
[{"$f":"Relevamiento!B$10","v":"Internar a los adultos mayores en Institución geriátrica"},{"$nulls":10},{"$f":"Relevamiento!B$10","v":"Internar a los adultos mayores en Institución geriátrica"},{"$f":"Relevamiento!$C$45*(M24/10)","v":{"$error":"#DIV/0!"}},{"$f":"Relevamiento!$C$45*(N24/10)","v":{"$error":"#DIV/0!"}},{"$f":"Relevamiento!$C$45*(O24/10)","v":{"$error":"#DIV/0!"}},{"$f":"Relevamiento!$C$45*(P24/10)","v":{"$error":"#DIV/0!"}},{"$f":"Relevamiento!$C$45*(Q24/10)","v":{"$error":"#DIV/0!"}},{"$f":"Relevamiento!$C$45*(R24/10)","v":{"$error":"#DIV/0!"}},{"$f":"Relevamiento!$C$45*(S24/10)","v":{"$error":"#DIV/0!"}}]
[{"$f":"Relevamiento!B$11","v":"Internar a los adultos mayores en su propio domicilio"},{"$nulls":10},{"$f":"Relevamiento!B$11","v":"Internar a los adultos mayores en su propio domicilio"},{"$f":"Relevamiento!$C$45*(M25/10)","v":{"$error":"#DIV/0!"}},{"$f":"Relevamiento!$C$45*(N25/10)","v":{"$error":"#DIV/0!"}},{"$f":"Relevamiento!$C$45*(O25/10)","v":{"$error":"#DIV/0!"}},{"$f":"Relevamiento!$C$45*(P25/10)","v":{"$error":"#DIV/0!"}},{"$f":"Relevamiento!$C$45*(Q25/10)","v":{"$error":"#DIV/0!"}},{"$f":"Relevamiento!$C$45*(R25/10)","v":{"$error":"#DIV/0!"}},{"$f":"Relevamiento!$C$45*(S25/10)","v":{"$error":"#DIV/0!"}}]
[{"$f":"Relevamiento!B$12","v":"Establecimientode turnos a atención por parte de cada uno de los hijos"},{"$nulls":10},{"$f":"Relevamiento!B$12","v":"Establecimientode turnos a atención por parte de cada uno de los hijos"},{"$f":"Relevamiento!$C$45*(M26/10)","v":{"$error":"#DIV/0!"}},{"$f":"Relevamiento!$C$45*(N26/10)","v":{"$error":"#DIV/0!"}},{"$f":"Relevamiento!$C$45*(O26/10)","v":{"$error":"#DIV/0!"}},{"$f":"Relevamiento!$C$45*(P26/10)","v":{"$error":"#DIV/0!"}},{"$f":"Relevamiento!$C$45*(Q26/10)","v":{"$error":"#DIV/0!"}},{"$f":"Relevamiento!$C$45*(R26/10)","v":{"$error":"#DIV/0!"}},{"$f":"Relevamiento!$C$45*(S26/10)","v":{"$error":"#DIV/0!"}}]
[{"$f":"Relevamiento!B$13","v":"Atención por acompañantes especialistas"},{"$nulls":10},{"$f":"Relevamiento!B$13","v":"Atención por acompañantes especialistas"},{"$f":"Relevamiento!$C$45*(M27/10)","v":{"$error":"#DIV/0!"}},{"$f":"Relevamiento!$C$45*(N27/10)","v":{"$error":"#DIV/0!"}},{"$f":"Relevamiento!$C$45*(O27/10)","v":{"$error":"#DIV/0!"}},{"$f":"Relevamiento!$C$45*(P27/10)","v":{"$error":"#DIV/0!"}},{"$f":"Relevamiento!$C$45*(Q27/10)","v":{"$error":"#DIV/0!"}},{"$f":"Relevamiento!$C$45*(R27/10)","v":{"$error":"#DIV/0!"}},{"$f":"Relevamiento!$C$45*(S27/10)","v":{"$error":"#DIV/0!"}}]
[{"$f":"Relevamiento!B$14","v":0},{"$nulls":10},{"$f":"Relevamiento!B$14","v":0},{"$f":"Relevamiento!$C$45*(M28/10)","v":{"$error":"#DIV/0!"}},{"$f":"Relevamiento!$C$45*(N28/10)","v":{"$error":"#DIV/0!"}},{"$f":"Relevamiento!$C$45*(O28/10)","v":{"$error":"#DIV/0!"}},{"$f":"Relevamiento!$C$45*(P28/10)","v":{"$error":"#DIV/0!"}},{"$f":"Relevamiento!$C$45*(Q28/10)","v":{"$error":"#DIV/0!"}},{"$f":"Relevamiento!$C$45*(R28/10)","v":{"$error":"#DIV/0!"}},{"$f":"Relevamiento!$C$45*(S28/10)","v":{"$error":"#DIV/0!"}}]
[{"$f":"Relevamiento!B$15","v":0},{"$nulls":10},{"$f":"Relevamiento!M$15","v":0},{"$f":"Relevamiento!$C$45*(M29/10)","v":{"$error":"#DIV/0!"}},{"$f":"Relevamiento!$C$45*(N29/10)","v":{"$error":"#DIV/0!"}},{"$f":"Relevamiento!$C$45*(O29/10)","v":{"$error":"#DIV/0!"}},{"$f":"Relevamiento!$C$45*(P29/10)","v":{"$error":"#DIV/0!"}},{"$f":"Relevamiento!$C$45*(Q29/10)","v":{"$error":"#DIV/0!"}},{"$f":"Relevamiento!$C$45*(R29/10)","v":{"$error":"#DIV/0!"}},{"$f":"Relevamiento!$C$45*(S29/10)","v":{"$error":"#DIV/0!"}}]
[{"$f":"Relevamiento!B$16","v":0},{"$nulls":10},{"$f":"Relevamiento!B$16","v":0},{"$f":"Relevamiento!$C$45*(M30/10)","v":{"$error":"#DIV/0!"}},{"$f":"Relevamiento!$C$45*(N30/10)","v":{"$error":"#DIV/0!"}},{"$f":"Relevamiento!$C$45*(O30/10)","v":{"$error":"#DIV/0!"}},{"$f":"Relevamiento!$C$45*(P30/10)","v":{"$error":"#DIV/0!"}},{"$f":"Relevamiento!$C$45*(Q30/10)","v":{"$error":"#DIV/0!"}},{"$f":"Relevamiento!$C$45*(R30/10)","v":{"$error":"#DIV/0!"}},{"$f":"Relevamiento!$C$45*(S30/10)","v":{"$error":"#DIV/0!"}}]
[{"$f":"Relevamiento!B$17","v":0},{"$nulls":10},{"$f":"Relevamiento!B$17","v":0},{"$f":"Relevamiento!$C$45*(M31/10)","v":{"$error":"#DIV/0!"}},{"$f":"Relevamiento!$C$45*(N31/10)","v":{"$error":"#DIV/0!"}},{"$f":"Relevamiento!$C$45*(O31/10)","v":{"$error":"#DIV/0!"}},{"$f":"Relevamiento!$C$45*(P31/10)","v":{"$error":"#DIV/0!"}},{"$f":"Relevamiento!$C$45*(Q31/10)","v":{"$error":"#DIV/0!"}},{"$f":"Relevamiento!$C$45*(R31/10)","v":{"$error":"#DIV/0!"}},{"$f":"Relevamiento!$C$45*(S31/10)","v":{"$error":"#DIV/0!"}}]
[{"$f":"Relevamiento!B$18","v":0},{"$nulls":10},{"$f":"Relevamiento!B$18","v":0},{"$f":"Relevamiento!$C$45*(M32/10)","v":{"$error":"#DIV/0!"}},{"$f":"Relevamiento!$C$45*(N32/10)","v":{"$error":"#DIV/0!"}},{"$f":"Relevamiento!$C$45*(O32/10)","v":{"$error":"#DIV/0!"}},{"$f":"Relevamiento!$C$45*(P32/10)","v":{"$error":"#DIV/0!"}},{"$f":"Relevamiento!$C$45*(Q32/10)","v":{"$error":"#DIV/0!"}},{"$f":"Relevamiento!$C$45*(R32/10)","v":{"$error":"#DIV/0!"}},{"$f":"Relevamiento!$C$45*(S32/10)","v":{"$error":"#DIV/0!"}}]
[]
["Participante II","Calificación del aspecto"]
[{"$f":"Relevamiento!$B$23","v":"Javier (esposo Andrea)"},{"$f":"Relevamiento!$B$45","v":"Tiempo de atención / dedicación"},{"$f":"Relevamiento!$B$46","v":"Calidad de atención que reciben los adultos mayores"},{"$f":"Relevamiento!$B$47","v":"Preferencia de los adultos mayores"},{"$f":"Relevamiento!$B$48","v":0},{"$f":"Relevamiento!$B$49","v":0},{"$f":"Relevamiento!$B$50","v":0},{"$f":"Relevamiento!$B$51","v":0},{"$nulls":4},{"$f":"COUNT(B10,B23,B36,B49,B62,B75,B88,B101,B114,B127)-IF(COUNT(B10,B23,B36,B49,B62,B75,B88,B101,B114,B127)<7,0,2)","v":0}]
[{"$f":"Relevamiento!B$9","v":"Contunuar como siempre"},{"$nulls":11},{"$f":"((B10+B23+B36+B49+B62+B75+B88+B101+B114+B127)-IF(COUNT(B10,B23,B36,B49,B62,B75,B88,B101,B114,B127)<7,0,MAX(B10,B23,B36,B49,B62,B75,B88,B101,B114,B127)+MIN(B10,B23,B36,B49,B62,B75,B88,B101,B114,B127)))/$M$22","v":{"$error":"#DIV/0!"}},{"$error":"#DIV/0!"},{"$error":"#DIV/0!"},{"$error":"#DIV/0!"},{"$error":"#DIV/0!"},{"$error":"#DIV/0!"},{"$error":"#DIV/0!"},{"$error":"#DIV/0!"}]
[{"$f":"Relevamiento!B$10","v":"Internar a los adultos mayores en Institución geriátrica"},{"$nulls":11},{"$f":"((B11+B24+B37+B50+B63+B76+B89+B102+B115+B128)-IF(COUNT(B11,B24,B37,B50,B63,B76,B89,B102,B115,B128)<7,0,MAX(B11,B24,B37,B50,B63,B76,B89,B102,B115,B128)+MIN(B11,B24,B37,B50,B63,B76,B89,B102,B115,B128)))/$M$22","v":{"$error":"#DIV/0!"}},{"$error":"#DIV/0!"},{"$error":"#DIV/0!"},{"$error":"#DIV/0!"},{"$error":"#DIV/0!"},{"$error":"#DIV/0!"},{"$error":"#DIV/0!"},{"$error":"#DIV/0!"}]
[{"$f":"Relevamiento!B$11","v":"Internar a los adultos mayores en su propio domicilio"},{"$nulls":11},{"$f":"((B12+B25+B38+B51+B64+B77+B90+B103+B116+B129)-IF(COUNT(B12,B25,B38,B51,B64,B77,B90,B103,B116,B129)<7,0,MAX(B12,B25,B38,B51,B64,B77,B90,B103,B116,B129)+MIN(B12,B25,B38,B51,B64,B77,B90,B103,B116,B129)))/$M$22","v":{"$error":"#DIV/0!"}},{"$error":"#DIV/0!"},{"$error":"#DIV/0!"},{"$error":"#DIV/0!"},{"$error":"#DIV/0!"},{"$error":"#DIV/0!"},{"$error":"#DIV/0!"},{"$error":"#DIV/0!"}]
[{"$f":"Relevamiento!B$12","v":"Establecimientode turnos a atención por parte de cada uno de los hijos"},{"$nulls":11},{"$f":"((B13+B26+B39+B52+B65+B78+B91+B104+B117+B130)-IF(COUNT(B13,B26,B39,B52,B65,B78,B91,B104,B117,B130)<7,0,MAX(B13,B26,B39,B52,B65,B78,B91,B104,B117,B130)+MIN(B13,B26,B39,B52,B65,B78,B91,B104,B117,B130)))/$M$22","v":{"$error":"#DIV/0!"}},{"$error":"#DIV/0!"},{"$error":"#DIV/0!"},{"$error":"#DIV/0!"},{"$error":"#DIV/0!"},{"$error":"#DIV/0!"},{"$error":"#DIV/0!"},{"$error":"#DIV/0!"}]
[{"$f":"Relevamiento!B$13","v":"Atención por acompañantes especialistas"},{"$nulls":11},{"$f":"((B14+B27+B40+B53+B66+B79+B92+B105+B118+B131)-IF(COUNT(B14,B27,B40,B53,B66,B79,B92,B105,B118,B131)<7,0,MAX(B14,B27,B40,B53,B66,B79,B92,B105,B118,B131)+MIN(B14,B27,B40,B53,B66,B79,B92,B105,B118,B131)))/$M$22","v":{"$error":"#DIV/0!"}},{"$error":"#DIV/0!"},{"$error":"#DIV/0!"},{"$error":"#DIV/0!"},{"$error":"#DIV/0!"},{"$error":"#DIV/0!"},{"$error":"#DIV/0!"},{"$error":"#DIV/0!"}]
[{"$f":"Relevamiento!B$14","v":0},{"$nulls":11},{"$f":"((B15+B28+B41+B54+B67+B80+B93+B106+B119+B132)-IF(COUNT(B15,B28,B41,B54,B67,B80,B93,B106,B119,B132)<7,0,MAX(B15,B28,B41,B54,B67,B80,B93,B106,B119,B132)+MIN(B15,B28,B41,B54,B67,B80,B93,B106,B119,B132)))/$M$22","v":{"$error":"#DIV/0!"}},{"$error":"#DIV/0!"},{"$error":"#DIV/0!"},{"$error":"#DIV/0!"},{"$error":"#DIV/0!"},{"$error":"#DIV/0!"},{"$error":"#DIV/0!"},{"$error":"#DIV/0!"}]
[{"$f":"Relevamiento!B$15","v":0},{"$nulls":11},{"$f":"((B16+B29+B42+B55+B68+B81+B94+B107+B120+B133)-IF(COUNT(B16,B29,B42,B55,B68,B81,B94,B107,B120,B133)<7,0,MAX(B16,B29,B42,B55,B68,B81,B94,B107,B120,B133)+MIN(B16,B29,B42,B55,B68,B81,B94,B107,B120,B133)))/$M$22","v":{"$error":"#DIV/0!"}},{"$error":"#DIV/0!"},{"$error":"#DIV/0!"},{"$error":"#DIV/0!"},{"$error":"#DIV/0!"},{"$error":"#DIV/0!"},{"$error":"#DIV/0!"},{"$error":"#DIV/0!"}]
[{"$f":"Relevamiento!B$16","v":0},{"$nulls":11},{"$f":"((B17+B30+B43+B56+B69+B82+B95+B108+B121+B134)-IF(COUNT(B17,B30,B43,B56,B69,B82,B95,B108,B121,B134)<7,0,MAX(B17,B30,B43,B56,B69,B82,B95,B108,B121,B134)+MIN(B17,B30,B43,B56,B69,B82,B95,B108,B121,B134)))/$M$22","v":{"$error":"#DIV/0!"}},{"$error":"#DIV/0!"},{"$error":"#DIV/0!"},{"$error":"#DIV/0!"},{"$error":"#DIV/0!"},{"$error":"#DIV/0!"},{"$error":"#DIV/0!"},{"$error":"#DIV/0!"}]
[{"$f":"Relevamiento!B$17","v":0},{"$nulls":11},{"$f":"((B18+B31+B44+B57+B70+B83+B96+B109+B122+B135)-IF(COUNT(B18,B31,B44,B57,B70,B83,B96,B109,B122,B135)<7,0,MAX(B18,B31,B44,B57,B70,B83,B96,B109,B122,B135)+MIN(B18,B31,B44,B57,B70,B83,B96,B109,B122,B135)))/$M$22","v":{"$error":"#DIV/0!"}},{"$error":"#DIV/0!"},{"$error":"#DIV/0!"},{"$error":"#DIV/0!"},{"$error":"#DIV/0!"},{"$error":"#DIV/0!"},{"$error":"#DIV/0!"},{"$error":"#DIV/0!"}]
[{"$f":"Relevamiento!B$18","v":0},{"$nulls":11},{"$f":"((B19+B32+B45+B58+B71+B84+B97+B110+B123+B136)-IF(COUNT(B19,B32,B45,B58,B71,B84,B97,B110,B123,B136)<7,0,MAX(B19,B32,B45,B58,B71,B84,B97,B110,B123,B136)+MIN(B19,B32,B45,B58,B71,B84,B97,B110,B123,B136)))/$M$22","v":{"$error":"#DIV/0!"}},{"$error":"#DIV/0!"},{"$error":"#DIV/0!"},{"$error":"#DIV/0!"},{"$error":"#DIV/0!"},{"$error":"#DIV/0!"},{"$error":"#DIV/0!"},{"$error":"#DIV/0!"}]
[]
["Participante III","Calificación del aspecto"]
[{"$f":"Relevamiento!$B$24","v":"Esteban (hijo)"},{"$f":"Relevamiento!$B$45","v":"Tiempo de atención / dedicación"},{"$f":"Relevamiento!$B$46","v":"Calidad de atención que reciben los adultos mayores"},{"$f":"Relevamiento!$B$47","v":"Preferencia de los adultos mayores"},{"$f":"Relevamiento!$B$48","v":0},{"$f":"Relevamiento!$B$49","v":0},{"$f":"Relevamiento!$B$50","v":0},{"$f":"Relevamiento!$B$51","v":0}]
[{"$f":"Relevamiento!B$9","v":"Contunuar como siempre"}]
[{"$f":"Relevamiento!B$10","v":"Internar a los adultos mayores en Institución geriátrica"}]
[{"$f":"Relevamiento!B$11","v":"Internar a los adultos mayores en su propio domicilio"}]
[{"$f":"Relevamiento!B$12","v":"Establecimientode turnos a atención por parte de cada uno de los hijos"}]
[{"$f":"Relevamiento!B$13","v":"Atención por acompañantes especialistas"}]
[{"$f":"Relevamiento!B$14","v":0}]
[{"$f":"Relevamiento!B$15","v":0}]
[{"$f":"Relevamiento!B$16","v":0}]
[{"$f":"Relevamiento!B$17","v":0}]
[{"$f":"Relevamiento!B$18","v":0}]
[]
["Participante IV","Calificación del aspecto"]
[{"$f":"Relevamiento!$B$25","v":"Clarisa (esposa de Esteban)"},{"$f":"Relevamiento!$B$45","v":"Tiempo de atención / dedicación"},{"$f":"Relevamiento!$B$46","v":"Calidad de atención que reciben los adultos mayores"},{"$f":"Relevamiento!$B$47","v":"Preferencia de los adultos mayores"},{"$f":"Relevamiento!$B$48","v":0},{"$f":"Relevamiento!$B$49","v":0},{"$f":"Relevamiento!$B$50","v":0},{"$f":"Relevamiento!$B$51","v":0}]
[{"$f":"Relevamiento!B$9","v":"Contunuar como siempre"}]
[{"$f":"Relevamiento!B$10","v":"Internar a los adultos mayores en Institución geriátrica"}]
[{"$f":"Relevamiento!B$11","v":"Internar a los adultos mayores en su propio domicilio"}]
[{"$f":"Relevamiento!B$12","v":"Establecimientode turnos a atención por parte de cada uno de los hijos"}]
[{"$f":"Relevamiento!B$13","v":"Atención por acompañantes especialistas"}]
[{"$f":"Relevamiento!B$14","v":0}]
[{"$f":"Relevamiento!B$15","v":0}]
[{"$f":"Relevamiento!B$16","v":0}]
[{"$f":"Relevamiento!B$17","v":0}]
[{"$f":"Relevamiento!B$18","v":0}]
[]
["Participante V","Calificación del aspecto"]
[{"$f":"Relevamiento!$B$26","v":"Anibal (hijo)"},{"$f":"Relevamiento!$B$45","v":"Tiempo de atención / dedicación"},{"$f":"Relevamiento!$B$46","v":"Calidad de atención que reciben los adultos mayores"},{"$f":"Relevamiento!$B$47","v":"Preferencia de los adultos mayores"},{"$f":"Relevamiento!$B$48","v":0},{"$f":"Relevamiento!$B$49","v":0},{"$f":"Relevamiento!$B$50","v":0},{"$f":"Relevamiento!$B$51","v":0}]
[{"$f":"Relevamiento!B$9","v":"Contunuar como siempre"}]
[{"$f":"Relevamiento!B$10","v":"Internar a los adultos mayores en Institución geriátrica"}]
[{"$f":"Relevamiento!B$11","v":"Internar a los adultos mayores en su propio domicilio"}]
[{"$f":"Relevamiento!B$12","v":"Establecimientode turnos a atención por parte de cada uno de los hijos"}]
[{"$f":"Relevamiento!B$13","v":"Atención por acompañantes especialistas"}]
[{"$f":"Relevamiento!B$14","v":0}]
[{"$f":"Relevamiento!B$15","v":0}]
[{"$f":"Relevamiento!B$16","v":0}]
[{"$f":"Relevamiento!B$17","v":0}]
[{"$f":"Relevamiento!B$18","v":0}]
[]
["Participante VI","Calificación del aspecto"]
[{"$f":"Relevamiento!$B$27","v":"Mabel (esposa de Anibal)"},{"$f":"Relevamiento!$B$45","v":"Tiempo de atención / dedicación"},{"$f":"Relevamiento!$B$46","v":"Calidad de atención que reciben los adultos mayores"},{"$f":"Relevamiento!$B$47","v":"Preferencia de los adultos mayores"},{"$f":"Relevamiento!$B$48","v":0},{"$f":"Relevamiento!$B$49","v":0},{"$f":"Relevamiento!$B$50","v":0},{"$f":"Relevamiento!$B$51","v":0}]
[{"$f":"Relevamiento!B$9","v":"Contunuar como siempre"}]
[{"$f":"Relevamiento!B$10","v":"Internar a los adultos mayores en Institución geriátrica"}]
[{"$f":"Relevamiento!B$11","v":"Internar a los adultos mayores en su propio domicilio"}]
[{"$f":"Relevamiento!B$12","v":"Establecimientode turnos a atención por parte de cada uno de los hijos"}]
[{"$f":"Relevamiento!B$13","v":"Atención por acompañantes especialistas"}]
[{"$f":"Relevamiento!B$14","v":0}]
[{"$f":"Relevamiento!B$15","v":0}]
[{"$f":"Relevamiento!B$16","v":0}]
[{"$f":"Relevamiento!B$17","v":0}]
[{"$f":"Relevamiento!B$18","v":0}]
[]
["Participante VII","Calificación del aspecto"]
[{"$f":"Relevamiento!$B$28","v":0},{"$f":"Relevamiento!$B$45","v":"Tiempo de atención / dedicación"},{"$f":"Relevamiento!$B$46","v":"Calidad de atención que reciben los adultos mayores"},{"$f":"Relevamiento!$B$47","v":"Preferencia de los adultos mayores"},{"$f":"Relevamiento!$B$48","v":0},{"$f":"Relevamiento!$B$49","v":0},{"$f":"Relevamiento!$B$50","v":0},{"$f":"Relevamiento!$B$51","v":0}]
[{"$f":"Relevamiento!B$9","v":"Contunuar como siempre"}]
[{"$f":"Relevamiento!B$10","v":"Internar a los adultos mayores en Institución geriátrica"}]
[{"$f":"Relevamiento!B$11","v":"Internar a los adultos mayores en su propio domicilio"}]
[{"$f":"Relevamiento!B$12","v":"Establecimientode turnos a atención por parte de cada uno de los hijos"}]
[{"$f":"Relevamiento!B$13","v":"Atención por acompañantes especialistas"}]
[{"$f":"Relevamiento!B$14","v":0}]
[{"$f":"Relevamiento!B$15","v":0}]
[{"$f":"Relevamiento!B$16","v":0}]
[{"$f":"Relevamiento!B$17","v":0}]
[{"$f":"Relevamiento!B$18","v":0}]
[]
["Participante VIII","Calificación del aspecto"]
[{"$f":"Relevamiento!$B$29","v":0},{"$f":"Relevamiento!$B$45","v":"Tiempo de atención / dedicación"},{"$f":"Relevamiento!$B$46","v":"Calidad de atención que reciben los adultos mayores"},{"$f":"Relevamiento!$B$47","v":"Preferencia de los adultos mayores"},{"$f":"Relevamiento!$B$48","v":0},{"$f":"Relevamiento!$B$49","v":0},{"$f":"Relevamiento!$B$50","v":0},{"$f":"Relevamiento!$B$51","v":0}]
[{"$f":"Relevamiento!B$9","v":"Contunuar como siempre"}]
[{"$f":"Relevamiento!B$10","v":"Internar a los adultos mayores en Institución geriátrica"}]
[{"$f":"Relevamiento!B$11","v":"Internar a los adultos mayores en su propio domicilio"}]
[{"$f":"Relevamiento!B$12","v":"Establecimientode turnos a atención por parte de cada uno de los hijos"}]
[{"$f":"Relevamiento!B$13","v":"Atención por acompañantes especialistas"}]
[{"$f":"Relevamiento!B$14","v":0}]
[{"$f":"Relevamiento!B$15","v":0}]
[{"$f":"Relevamiento!B$16","v":0}]
[{"$f":"Relevamiento!B$17","v":0}]
[{"$f":"Relevamiento!B$18","v":0}]
[]
["Participante IX","Calificación del aspecto"]
[{"$f":"Relevamiento!$B$30","v":0},{"$f":"Relevamiento!$B$45","v":"Tiempo de atención / dedicación"},{"$f":"Relevamiento!$B$46","v":"Calidad de atención que reciben los adultos mayores"},{"$f":"Relevamiento!$B$47","v":"Preferencia de los adultos mayores"},{"$f":"Relevamiento!$B$48","v":0},{"$f":"Relevamiento!$B$49","v":0},{"$f":"Relevamiento!$B$50","v":0},{"$f":"Relevamiento!$B$51","v":0}]
[{"$f":"Relevamiento!B$9","v":"Contunuar como siempre"}]
[{"$f":"Relevamiento!B$10","v":"Internar a los adultos mayores en Institución geriátrica"}]
[{"$f":"Relevamiento!B$11","v":"Internar a los adultos mayores en su propio domicilio"}]
[{"$f":"Relevamiento!B$12","v":"Establecimientode turnos a atención por parte de cada uno de los hijos"}]
[{"$f":"Relevamiento!B$13","v":"Atención por acompañantes especialistas"}]
[{"$f":"Relevamiento!B$14","v":0}]
[{"$f":"Relevamiento!B$15","v":0}]
[{"$f":"Relevamiento!B$16","v":0}]
[{"$f":"Relevamiento!B$17","v":0}]
[{"$f":"Relevamiento!B$18","v":0}]
[]
["Participante X","Calificación del aspecto"]
[{"$f":"Relevamiento!$B$31","v":0},{"$f":"Relevamiento!$B$45","v":"Tiempo de atención / dedicación"},{"$f":"Relevamiento!$B$46","v":"Calidad de atención que reciben los adultos mayores"},{"$f":"Relevamiento!$B$47","v":"Preferencia de los adultos mayores"},{"$f":"Relevamiento!$B$48","v":0},{"$f":"Relevamiento!$B$49","v":0},{"$f":"Relevamiento!$B$50","v":0},{"$f":"Relevamiento!$B$51","v":0}]
[{"$f":"Relevamiento!B$9","v":"Contunuar como siempre"}]
[{"$f":"Relevamiento!B$10","v":"Internar a los adultos mayores en Institución geriátrica"}]
[{"$f":"Relevamiento!B$11","v":"Internar a los adultos mayores en su propio domicilio"}]
[{"$f":"Relevamiento!B$12","v":"Establecimientode turnos a atención por parte de cada uno de los hijos"}]
[{"$f":"Relevamiento!B$13","v":"Atención por acompañantes especialistas"}]
[{"$f":"Relevamiento!B$14","v":0}]
[{"$f":"Relevamiento!B$15","v":0}]
[{"$f":"Relevamiento!B$16","v":0}]
[{"$f":"Relevamiento!B$17","v":0}]
[{"$f":"Relevamiento!B$18","v":0}]

{"sheet":"Decisión","index":2,"n_rows":18,"n_cols":19,"rows_kept":18,"merged":[[6,1,6,7],[6,8,6,14]]}
["Resolución Conjunta"]
[{"$nulls":7},"IANCA - Instituto Argentino de Negociación, Conciliación y Arbitraje "]
[null," "]
[{"$f":"Relevamiento!B4","v":"Responsabilidad sobre cuidado de Pareja de adultos mayores"}]
[{"$f":"Relevamiento!B5","v":0}]
[{"$f":"Relevamiento!B6","v":0},{"$nulls":13},"© Miguel Ángel Martín "]
[null,"Aspectos Cualitativos",{"$nulls":6},"Aspectos Cuantitativos"]
["Decisiones ",{"$f":"Relevamiento!$B$45","v":"Tiempo de atención / dedicación"},{"$f":"Relevamiento!$B$46","v":"Calidad de atención que reciben los adultos mayores"},{"$f":"Relevamiento!$B$47","v":"Preferencia de los adultos mayores"},{"$f":"Relevamiento!$B$48","v":0},{"$f":"Relevamiento!$B$49","v":0},{"$f":"Relevamiento!$B$50","v":0},{"$f":"Relevamiento!$B$51","v":0},{"$f":"Relevamiento!$B$35","v":"Costo periódico de la opción"},{"$f":"Relevamiento!$B$36","v":"Costo de culminación y cierre (de única vez)"},{"$f":"Relevamiento!$B$37","v":0},{"$f":"Relevamiento!$B$38","v":0},{"$f":"Relevamiento!$B$39","v":0},{"$f":"Relevamiento!$B$40","v":0},{"$f":"Relevamiento!$B$41","v":0},"Total"]
[{"$f":"Relevamiento!B$9","v":"Contunuar como siempre"},{"$f":"IF(Calificaciones!M10=0,\"\",Calificaciones!M10)","v":{"$error":"#DIV/0!"}},{"$f":"IF(Calificaciones!N10=0,\"\",Calificaciones!N10)","v":{"$error":"#DIV/0!"}},{"$f":"IF(Calificaciones!O10=0,\"\",Calificaciones!O10)","v":{"$error":"#DIV/0!"}},{"$f":"IF(Calificaciones!P10=0,\"\",Calificaciones!P10)","v":{"$error":"#DIV/0!"}},{"$f":"IF(Calificaciones!Q10=0,\"\",Calificaciones!Q10)","v":{"$error":"#DIV/0!"}},{"$f":"IF(Calificaciones!R10=0,\"\",Calificaciones!R10)","v":{"$error":"#DIV/0!"}},{"$f":"IF(Calificaciones!S10=0,\"\",Calificaciones!S10)","v":{"$error":"#DIV/0!"}},{"$f":"Relevamiento!Q47","v":""},{"$f":"Relevamiento!R47","v":""},{"$f":"Relevamiento!S47","v":""},{"$f":"Relevamiento!T47","v":""},{"$f":"Relevamiento!U47","v":""},{"$f":"Relevamiento!V47","v":""},{"$f":"Relevamiento!W47","v":""},{"$f":"SUM(B9:O9)","v":{"$error":"#DIV/0!"}},{"$f":"IF(P9=MAX(P$9:P$18),\"Mayor\",\"\")","v":{"$error":"#DIV/0!"}}]
[{"$f":"Relevamiento!B$10","v":"Internar a los adultos mayores en Institución geriátrica"},{"$f":"IF(Calificaciones!M11=0,\"\",Calificaciones!M11)","v":{"$error":"#DIV/0!"}},{"$f":"IF(Calificaciones!N11=0,\"\",Calificaciones!N11)","v":{"$error":"#DIV/0!"}},{"$f":"IF(Calificaciones!O11=0,\"\",Calificaciones!O11)","v":{"$error":"#DIV/0!"}},{"$f":"IF(Calificaciones!P11=0,\"\",Calificaciones!P11)","v":{"$error":"#DIV/0!"}},{"$f":"IF(Calificaciones!Q11=0,\"\",Calificaciones!Q11)","v":{"$error":"#DIV/0!"}},{"$f":"IF(Calificaciones!R11=0,\"\",Calificaciones!R11)","v":{"$error":"#DIV/0!"}},{"$f":"IF(Calificaciones!S11=0,\"\",Calificaciones!S11)","v":{"$error":"#DIV/0!"}},{"$f":"Relevamiento!Q48","v":""},{"$f":"Relevamiento!R48","v":""},{"$f":"Relevamiento!S48","v":""},{"$f":"Relevamiento!T48","v":""},{"$f":"Relevamiento!U48","v":""},{"$f":"Relevamiento!V48","v":""},{"$f":"Relevamiento!W48","v":""},{"$f":"SUM(B10:O10)","v":{"$error":"#DIV/0!"}},{"$f":"IF(P10=MAX(P$9:P$18),\"Mayor\",\"\")","v":{"$error":"#DIV/0!"}},null,{"$f":"IF(Relevamiento!AS7=\"\",\"\",IF(Relevamiento!$E36=\"X\",Relevamiento!#REF!/Relevamiento!AS7,Relevamiento!AS7/Relevamiento!$R36)*Relevamiento!$C36)","v":""}]
[{"$f":"Relevamiento!B$11","v":"Internar a los adultos mayores en su propio domicilio"},{"$f":"IF(Calificaciones!M12=0,\"\",Calificaciones!M12)","v":{"$error":"#DIV/0!"}},{"$f":"IF(Calificaciones!N12=0,\"\",Calificaciones!N12)","v":{"$error":"#DIV/0!"}},{"$f":"IF(Calificaciones!O12=0,\"\",Calificaciones!O12)","v":{"$error":"#DIV/0!"}},{"$f":"IF(Calificaciones!P12=0,\"\",Calificaciones!P12)","v":{"$error":"#DIV/0!"}},{"$f":"IF(Calificaciones!Q12=0,\"\",Calificaciones!Q12)","v":{"$error":"#DIV/0!"}},{"$f":"IF(Calificaciones!R12=0,\"\",Calificaciones!R12)","v":{"$error":"#DIV/0!"}},{"$f":"IF(Calificaciones!S12=0,\"\",Calificaciones!S12)","v":{"$error":"#DIV/0!"}},{"$f":"Relevamiento!Q49","v":""},{"$f":"Relevamiento!R49","v":""},{"$f":"Relevamiento!S49","v":""},{"$f":"Relevamiento!T49","v":""},{"$f":"Relevamiento!U49","v":""},{"$f":"Relevamiento!V49","v":""},{"$f":"Relevamiento!W49","v":""},{"$error":"#DIV/0!"},{"$error":"#DIV/0!"},null,{"$f":"IF(Relevamiento!AS8=\"\",\"\",IF(Relevamiento!$E36=\"X\",Relevamiento!#REF!/Relevamiento!AS8,Relevamiento!AS8/Relevamiento!$R36)*Relevamiento!$C36)","v":""}]
[{"$f":"Relevamiento!B$12","v":"Establecimientode turnos a atención por parte de cada uno de los hijos"},{"$f":"IF(Calificaciones!M13=0,\"\",Calificaciones!M13)","v":{"$error":"#DIV/0!"}},{"$f":"IF(Calificaciones!N13=0,\"\",Calificaciones!N13)","v":{"$error":"#DIV/0!"}},{"$f":"IF(Calificaciones!O13=0,\"\",Calificaciones!O13)","v":{"$error":"#DIV/0!"}},{"$f":"IF(Calificaciones!P13=0,\"\",Calificaciones!P13)","v":{"$error":"#DIV/0!"}},{"$f":"IF(Calificaciones!Q13=0,\"\",Calificaciones!Q13)","v":{"$error":"#DIV/0!"}},{"$f":"IF(Calificaciones!R13=0,\"\",Calificaciones!R13)","v":{"$error":"#DIV/0!"}},{"$f":"IF(Calificaciones!S13=0,\"\",Calificaciones!S13)","v":{"$error":"#DIV/0!"}},{"$f":"Relevamiento!Q50","v":""},{"$f":"Relevamiento!R50","v":""},{"$f":"Relevamiento!S50","v":""},{"$f":"Relevamiento!T50","v":""},{"$f":"Relevamiento!U50","v":""},{"$f":"Relevamiento!V50","v":""},{"$f":"Relevamiento!W50","v":""},{"$error":"#DIV/0!"},{"$error":"#DIV/0!"},null,{"$f":"IF(Relevamiento!AS9=\"\",\"\",IF(Relevamiento!$E36=\"X\",Relevamiento!#REF!/Relevamiento!AS9,Relevamiento!AS9/Relevamiento!$R36)*Relevamiento!$C36)","v":""}]
[{"$f":"Relevamiento!B$13","v":"Atención por acompañantes especialistas"},{"$f":"IF(Calificaciones!M14=0,\"\",Calificaciones!M14)","v":{"$error":"#DIV/0!"}},{"$f":"IF(Calificaciones!N14=0,\"\",Calificaciones!N14)","v":{"$error":"#DIV/0!"}},{"$f":"IF(Calificaciones!O14=0,\"\",Calificaciones!O14)","v":{"$error":"#DIV/0!"}},{"$f":"IF(Calificaciones!P14=0,\"\",Calificaciones!P14)","v":{"$error":"#DIV/0!"}},{"$f":"IF(Calificaciones!Q14=0,\"\",Calificaciones!Q14)","v":{"$error":"#DIV/0!"}},{"$f":"IF(Calificaciones!R14=0,\"\",Calificaciones!R14)","v":{"$error":"#DIV/0!"}},{"$f":"IF(Calificaciones!S14=0,\"\",Calificaciones!S14)","v":{"$error":"#DIV/0!"}},{"$f":"Relevamiento!Q51","v":""},{"$f":"Relevamiento!R51","v":""},{"$f":"Relevamiento!S51","v":""},{"$f":"Relevamiento!T51","v":""},{"$f":"Relevamiento!U51","v":""},{"$f":"Relevamiento!V51","v":""},{"$f":"Relevamiento!W51","v":""},{"$error":"#DIV/0!"},{"$error":"#DIV/0!"},null,{"$f":"IF(Relevamiento!AS10=\"\",\"\",IF(Relevamiento!$E36=\"X\",Relevamiento!#REF!/Relevamiento!AS10,Relevamiento!AS10/Relevamiento!$R36)*Relevamiento!$C36)","v":""}]
[{"$f":"Relevamiento!B$14","v":0},{"$f":"IF(Calificaciones!M15=0,\"\",Calificaciones!M15)","v":{"$error":"#DIV/0!"}},{"$f":"IF(Calificaciones!N15=0,\"\",Calificaciones!N15)","v":{"$error":"#DIV/0!"}},{"$f":"IF(Calificaciones!O15=0,\"\",Calificaciones!O15)","v":{"$error":"#DIV/0!"}},{"$f":"IF(Calificaciones!P15=0,\"\",Calificaciones!P15)","v":{"$error":"#DIV/0!"}},{"$f":"IF(Calificaciones!Q15=0,\"\",Calificaciones!Q15)","v":{"$error":"#DIV/0!"}},{"$f":"IF(Calificaciones!R15=0,\"\",Calificaciones!R15)","v":{"$error":"#DIV/0!"}},{"$f":"IF(Calificaciones!S15=0,\"\",Calificaciones!S15)","v":{"$error":"#DIV/0!"}},{"$f":"Relevamiento!Q52","v":""},{"$f":"Relevamiento!R52","v":""},{"$f":"Relevamiento!S52","v":""},{"$f":"Relevamiento!T52","v":""},{"$f":"Relevamiento!U52","v":""},{"$f":"Relevamiento!V52","v":""},{"$f":"Relevamiento!W52","v":""},{"$error":"#DIV/0!"},{"$error":"#DIV/0!"}]
[{"$f":"Relevamiento!B$15","v":0},{"$f":"IF(Calificaciones!M16=0,\"\",Calificaciones!M16)","v":{"$error":"#DIV/0!"}},{"$f":"IF(Calificaciones!N16=0,\"\",Calificaciones!N16)","v":{"$error":"#DIV/0!"}},{"$f":"IF(Calificaciones!O16=0,\"\",Calificaciones!O16)","v":{"$error":"#DIV/0!"}},{"$f":"IF(Calificaciones!P16=0,\"\",Calificaciones!P16)","v":{"$error":"#DIV/0!"}},{"$f":"IF(Calificaciones!Q16=0,\"\",Calificaciones!Q16)","v":{"$error":"#DIV/0!"}},{"$f":"IF(Calificaciones!R16=0,\"\",Calificaciones!R16)","v":{"$error":"#DIV/0!"}},{"$f":"IF(Calificaciones!S16=0,\"\",Calificaciones!S16)","v":{"$error":"#DIV/0!"}},{"$f":"Relevamiento!Q53","v":""},{"$f":"Relevamiento!R53","v":""},{"$f":"Relevamiento!S53","v":""},{"$f":"Relevamiento!T53","v":""},{"$f":"Relevamiento!U53","v":""},{"$f":"Relevamiento!V53","v":""},{"$f":"Relevamiento!W53","v":""},{"$error":"#DIV/0!"},{"$error":"#DIV/0!"}]
[{"$f":"Relevamiento!B$16","v":0},{"$f":"IF(Calificaciones!M17=0,\"\",Calificaciones!M17)","v":{"$error":"#DIV/0!"}},{"$f":"IF(Calificaciones!N17=0,\"\",Calificaciones!N17)","v":{"$error":"#DIV/0!"}},{"$f":"IF(Calificaciones!O17=0,\"\",Calificaciones!O17)","v":{"$error":"#DIV/0!"}},{"$f":"IF(Calificaciones!P17=0,\"\",Calificaciones!P17)","v":{"$error":"#DIV/0!"}},{"$f":"IF(Calificaciones!Q17=0,\"\",Calificaciones!Q17)","v":{"$error":"#DIV/0!"}},{"$f":"IF(Calificaciones!R17=0,\"\",Calificaciones!R17)","v":{"$error":"#DIV/0!"}},{"$f":"IF(Calificaciones!S17=0,\"\",Calificaciones!S17)","v":{"$error":"#DIV/0!"}},{"$f":"Relevamiento!Q54","v":""},{"$f":"Relevamiento!R54","v":""},{"$f":"Relevamiento!S54","v":""},{"$f":"Relevamiento!T54","v":""},{"$f":"Relevamiento!U54","v":""},{"$f":"Relevamiento!V54","v":""},{"$f":"Relevamiento!W54","v":""},{"$error":"#DIV/0!"},{"$error":"#DIV/0!"}]
[{"$f":"Relevamiento!B$17","v":0},{"$f":"IF(Calificaciones!M18=0,\"\",Calificaciones!M18)","v":{"$error":"#DIV/0!"}},{"$f":"IF(Calificaciones!N18=0,\"\",Calificaciones!N18)","v":{"$error":"#DIV/0!"}},{"$f":"IF(Calificaciones!O18=0,\"\",Calificaciones!O18)","v":{"$error":"#DIV/0!"}},{"$f":"IF(Calificaciones!P18=0,\"\",Calificaciones!P18)","v":{"$error":"#DIV/0!"}},{"$f":"IF(Calificaciones!Q18=0,\"\",Calificaciones!Q18)","v":{"$error":"#DIV/0!"}},{"$f":"IF(Calificaciones!R18=0,\"\",Calificaciones!R18)","v":{"$error":"#DIV/0!"}},{"$f":"IF(Calificaciones!S18=0,\"\",Calificaciones!S18)","v":{"$error":"#DIV/0!"}},{"$f":"Relevamiento!Q55","v":""},{"$f":"Relevamiento!R55","v":""},{"$f":"Relevamiento!S55","v":""},{"$f":"Relevamiento!T55","v":""},{"$f":"Relevamiento!U55","v":""},{"$f":"Relevamiento!V55","v":""},{"$f":"Relevamiento!W55","v":""},{"$error":"#DIV/0!"},{"$error":"#DIV/0!"}]
[{"$f":"Relevamiento!B$18","v":0},{"$f":"IF(Calificaciones!M19=0,\"\",Calificaciones!M19)","v":{"$error":"#DIV/0!"}},{"$f":"IF(Calificaciones!N19=0,\"\",Calificaciones!N19)","v":{"$error":"#DIV/0!"}},{"$f":"IF(Calificaciones!O19=0,\"\",Calificaciones!O19)","v":{"$error":"#DIV/0!"}},{"$f":"IF(Calificaciones!P19=0,\"\",Calificaciones!P19)","v":{"$error":"#DIV/0!"}},{"$f":"IF(Calificaciones!Q19=0,\"\",Calificaciones!Q19)","v":{"$error":"#DIV/0!"}},{"$f":"IF(Calificaciones!R19=0,\"\",Calificaciones!R19)","v":{"$error":"#DIV/0!"}},{"$f":"IF(Calificaciones!S19=0,\"\",Calificaciones!S19)","v":{"$error":"#DIV/0!"}},{"$f":"Relevamiento!Q56","v":""},{"$f":"Relevamiento!R56","v":""},{"$f":"Relevamiento!S56","v":""},{"$f":"Relevamiento!T56","v":""},{"$f":"Relevamiento!U56","v":""},{"$f":"Relevamiento!V56","v":""},{"$f":"Relevamiento!W56","v":""},{"$error":"#DIV/0!"},{"$f":"IF(P18=MAX(P$9:P$18),\"Mayor\",\"\")","v":{"$error":"#DIV/0!"}}]