{"text_format":"3","workbook":"xlsx","n_sheets":7,"sheets":["Resultado","Cal I","CAL II","Cal III","Cal IV","Cal V","Cal VI"],"not_rendered":{"images":2,"macros":1,"external_links":1,"defined_names":2,"comments":7},"read":"whole","date_system":"1900"}

{"sheet":"Resultado","index":0,"n_rows":47,"n_cols":75,"rows_kept":47,"merged":[[3,4,3,5],[3,6,3,9],[4,4,4,5],[4,6,4,9],[5,4,5,5],[5,6,5,9],[6,4,6,5],[7,4,7,5],[8,4,8,5],[9,4,9,5],[12,0,12,4],[12,5,12,6],[12,7,12,12],[12,13,12,18],[12,21,12,26],[12,29,12,34],[12,37,12,42],[12,45,12,50],[12,53,12,58],[12,61,12,66],[12,69,12,74],[13,1,13,2],[15,1,15,2],[16,1,16,2],[17,1,17,2],[19,1,19,2],[22,1,22,2],[23,1,23,2],[24,1,24,2],[25,1,25,2],[29,0,29,4],[29,5,29,6],[29,7,29,12],[29,13,29,18],[30,1,30,2],[30,69,30,74],[31,1,31,2],[32,1,32,2],[33,1,33,2],[34,1,34,2],[35,1,35,2],[36,1,36,2],[37,1,37,2],[38,1,38,2],[39,1,39,2],[40,1,40,2],[41,1,41,2],[42,1,42,2]]}
["Matriz de homogeneización de factores para decisión",{"$nulls":10},"IANCA - Instituto Argentino de Negociación, Conciliación y Arbitraje "]
["Tema:"]
["Calificados",{"$nulls":3},"Calificadores",{"$nulls":6},"Las calificaciones son de 1 a 10."]
["Opciones","Denominación","Observaciones",null,"Opciones",null,"Denominación",{"$nulls":4},"Los campos a cargar son los sonbreados."]
["A",{"$nulls":3},"I",{"$nulls":6},"Debe indicarse para cada aspecto si es maximizante o"]
["B",{"$nulls":3},"II",{"$nulls":6}," minimizante."]
["C",{"$nulls":3},"III",{"$nulls":6},"Las hojas deben completarse en erden que están."]
["D",{"$nulls":3},"IV",{"$nulls":6},"El puntaje es el promedio del que asignan los calificadores."]
["E",{"$nulls":3},"V",{"$nulls":6},"De las calificaciones de la opciones, se promedian las"]
["F",{"$nulls":3},"VI",{"$nulls":6},"  misma, pero a partir de la tercera se elimina un máximo y"]
[{"$nulls":11},"  un mínimo."]
["Consideración de aspectos cualitativos o calificativos",{"$nulls":20},"Calificaciones",{"$nulls":7},"Calificaciones",{"$nulls":7},"Calificaciones",{"$nulls":7},"Calificaciones",{"$nulls":7},"Calificaciones",{"$nulls":7},"Calificaciones",{"$nulls":7},"Calificaciones Puntajes"]
["Aspecto",{"$nulls":4},"Objetivo",null,"Valoraciones de opciones",{"$nulls":5},"Puntaje",{"$nulls":7},"Valoraciones de A",{"$nulls":7},"Valoraciones de B",{"$nulls":7},"Valoraciones de C",{"$nulls":7},"Valoraciones de D",{"$nulls":7}," Valoraciones de E",{"$nulls":7},"Valoraciones de F",{"$nulls":7},"Valoraciones de A"]
["Número ","Descripción",null,"Puntaje","%","Max","Min","A","B","C","D","E","F","A","B","C","D","E","F",null,null,"I","II","III","IV","V","VI",null,null,"I","II","III","IV","V","VI",null,null,"I","II","III","IV","V","VI",null,null,"I","II","III","IV","V","VI",null,null,"I","II","III","IV","V","VI",null,null,"I","II","III","IV","V","VI",null,null,"I","II","III","IV","V","VI"]
[1,null,null,{"$f":"BP15","v":""},{"$f":"IF(D15=\"\",\"\",D15/$D$45)","v":""},null,null,{"$f":"IF(T15=\"\",\"\",T15/U15)","v":""},{"$f":"IF(AB15=\"\",\"\",AB15/AC15)","v":""},{"$f":"IF(AJ15=\"\",\"\",AJ15/AK15)","v":""},{"$f":"IF(AR15=\"\",\"\",AR15/AS15)","v":""},{"$f":"IF(AZ15=\"\",\"\",AZ15/BA15)","v":""},{"$f":"IF(BH15=\"\",\"\",BH15/BI15)","v":""},{"$f":"IF(H15=\"\",\"\",($D15*H15)/10)","v":""},{"$f":"IF(I15=\"\",\"\",($D15*I15)/10)","v":""},{"$f":"IF(J15=\"\",\"\",($D15*J15)/10)","v":""},{"$f":"IF(K15=\"\",\"\",($D15*K15)/10)","v":""},{"$f":"IF(L15=\"\",\"\",($D15*L15)/10)","v":""},{"$f":"IF(M15=\"\",\"\",($D15*M15)/10)","v":""},{"$f":"IF(V15=\"\",\"\",IF(X15=\"\",AVERAGE(V15:W15),SUM(V15:AA15)-MAX(V15:AA15)-MIN(V15:AA15)))","v":""},{"$f":"IF(Y15=\"\",1,IF(Z15=\"\",2,IF(AA15=\"\",3,4)))","v":1},{"$f":"IF('Cal I'!$D9=\"\",\"\",'Cal I'!$D9)","v":""},{"$f":"IF('CAL II'!E9=\"\",\"\",'CAL II'!E9)","v":""},{"$f":"IF('CAL II'!F9=\"\",\"\",'CAL II'!F9)","v":""},{"$f":"IF('Cal III'!$D9=\"\",\"\",'Cal III'!$D9)","v":""},{"$f":"IF('Cal IV'!$D9=\"\",\"\",'Cal IV'!$D9)","v":""},{"$f":"IF('Cal V'!$D9=\"\",\"\",'Cal V'!$D9)","v":""},{"$f":"IF(AD15=\"\",\"\",IF(AF15=\"\",AVERAGE(AD15:AE15),SUM(AD15:AI15)-MAX(AD15:AI15)-MIN(AD15:AI15)))","v":""},{"$f":"IF(AG15=\"\",1,IF(AH15=\"\",2,IF(AI15=\"\",3,4)))","v":1},{"$f":"IF('Cal I'!$E9=\"\",\"\",'Cal I'!$E9)","v":""},{"$f":"IF('CAL II'!$E9=\"\",\"\",'CAL II'!$E9)","v":""},{"$f":"IF('Cal III'!$E9=\"\",\"\",'Cal III'!$E9)","v":""},{"$f":"IF('Cal IV'!$E9=\"\",\"\",'Cal IV'!$E9)","v":""},{"$f":"IF('Cal V'!$E9=\"\",\"\",'Cal V'!$E9)","v":""},{"$f":"IF('Cal VI'!$E9=\"\",\"\",'Cal VI'!$E9)","v":""},{"$f":"IF(AL15=\"\",\"\",IF(AN15=\"\",AVERAGE(AL15:AM15),SUM(AL15:AQ15)-MAX(AL15:AQ15)-MIN(AL15:AQ15)))","v":""},{"$f":"IF(AO15=\"\",1,IF(AP15=\"\",2,IF(AQ15=\"\",3,4)))","v":1},{"$f":"IF('Cal I'!$F9=\"\",\"\",'Cal I'!$F9)","v":""},{"$f":"IF('Cal I'!$F9=\"\",\"\",'Cal I'!$F9)","v":""},{"$f":"IF('Cal I'!$F9=\"\",\"\",'Cal I'!$F9)","v":""},{"$f":"IF('Cal I'!$F9=\"\",\"\",'Cal I'!$F9)","v":""},{"$f":"IF('Cal I'!$F9=\"\",\"\",'Cal I'!$F9)","v":""},{"$f":"IF('Cal I'!$F9=\"\",\"\",'Cal I'!$F9)","v":""},{"$f":"IF(AT15=\"\",\"\",IF(AV15=\"\",AVERAGE(AT15:AU15),SUM(AT15:AY15)-MAX(AT15:AY15)-MIN(AT15:AY15)))","v":""},{"$f":"IF(AW15=\"\",1,IF(AX15=\"\",2,IF(AY15=\"\",3,4)))","v":1},{"$f":"IF('Cal I'!$G9=\"\",\"\",'Cal I'!$G9)","v":""},{"$f":"IF('Cal I'!$G9=\"\",\"\",'Cal I'!$G9)","v":""},{"$f":"IF('Cal I'!$G9=\"\",\"\",'Cal I'!$G9)","v":""},{"$f":"IF('Cal I'!$G9=\"\",\"\",'Cal I'!$G9)","v":""},{"$f":"IF('Cal I'!$G9=\"\",\"\",'Cal I'!$G9)","v":""},{"$f":"IF('Cal I'!$G9=\"\",\"\",'Cal I'!$G9)","v":""},{"$f":"IF(BB15=\"\",\"\",IF(BD15=\"\",AVERAGE(BB15:BC15),SUM(BB15:BG15)-MAX(BB15:BG15)-MIN(BB15:BG15)))","v":""},{"$f":"IF(BE15=\"\",1,IF(BF15=\"\",2,IF(BG15=\"\",3,4)))","v":1},{"$f":"IF('Cal I'!$H9=\"\",\"\",'Cal I'!$H9)","v":""},{"$f":"IF('Cal I'!$H9=\"\",\"\",'Cal I'!$H9)","v":""},{"$f":"IF('Cal I'!$H9=\"\",\"\",'Cal I'!$H9)","v":""},{"$f":"IF('Cal I'!$H9=\"\",\"\",'Cal I'!$H9)","v":""},{"$f":"IF('Cal I'!$H9=\"\",\"\",'Cal I'!$H9)","v":""},{"$f":"IF('Cal I'!$H9=\"\",\"\",'Cal I'!$H9)","v":""},{"$f":"IF(BJ15=\"\",\"\",IF(BL15=\"\",AVERAGE(BJ15:BK15),SUM(BJ15:BO15)-MAX(BJ15:BO15)-MIN(BJ15:BO15)))","v":""},{"$f":"IF(BM15=\"\",1,IF(BN15=\"\",2,IF(BO15=\"\",3,4)))","v":1},{"$f":"IF('Cal I'!$I9=\"\",\"\",'Cal I'!$I9)","v":""},{"$f":"IF('Cal I'!$I9=\"\",\"\",'Cal I'!$I9)","v":""},{"$f":"IF('Cal I'!$I9=\"\",\"\",'Cal I'!$I9)","v":""},{"$f":"IF('Cal I'!$I9=\"\",\"\",'Cal I'!$I9)","v":""},{"$f":"IF('Cal I'!$I9=\"\",\"\",'Cal I'!$I9)","v":""},{"$f":"IF('Cal I'!$I9=\"\",\"\",'Cal I'!$I9)","v":""},{"$f":"IF(BR15=\"\",\"\",IF(BT15=\"\",AVERAGE(BR15:BS15),SUM(BR15:BW15)-MAX(BR15:BW15)-MIN(BR15:BW15)))","v":""},null,{"$f":"IF('Cal I'!$C9=\"\",\"\",'Cal I'!$C9)","v":""},{"$f":"IF('CAL II'!$C9=\"\",\"\",'[1]CaI II'!$C9)","v":""},{"$f":"IF('CAL II'!$C9=\"\",\"\",'Cal III'!$C9)","v":""},{"$f":"IF('Cal IV'!$C9=\"\",\"\",'Cal III'!$IV9)","v":""},{"$f":"IF('Cal V'!$C9=\"\",\"\",'Cal V'!$C9)","v":""},{"$f":"IF('Cal VI'!$C9=\"\",\"\",'Cal VI'!$C9)","v":""}]
[2,null,null,{"$f":"BP16","v":""},{"$f":"IF(D16=\"\",\"\",D16/$D$45)","v":""},null,null,{"$f":"IF(T16=\"\",\"\",T16/U16)","v":""},{"$f":"IF(AB16=\"\",\"\",AB16/AC16)","v":""},{"$f":"IF(AJ16=\"\",\"\",AJ16/AK16)","v":""},{"$f":"IF(AR16=\"\",\"\",AR16/AS16)","v":""},{"$f":"IF(AZ16=\"\",\"\",AZ16/BA16)","v":""},{"$f":"IF(BH16=\"\",\"\",BH16/BI16)","v":""},{"$f":"IF(H16=\"\",\"\",($D16*H16)/10)","v":""},"","","","","",{"$f":"IF(V16=\"\",\"\",IF(X16=\"\",AVERAGE(V16:W16),SUM(V16:AA16)-MAX(V16:AA16)-MIN(V16:AA16)))","v":""},{"$f":"IF(Y16=\"\",1,IF(Z16=\"\",2,IF(AA16=\"\",3,4)))","v":1},{"$f":"IF('Cal I'!$D10=\"\",\"\",'Cal I'!$D10)","v":""},{"$f":"IF('CAL II'!E10=\"\",\"\",'CAL II'!E10)","v":""},{"$f":"IF('CAL II'!F10=\"\",\"\",'CAL II'!F10)","v":""},{"$f":"IF('Cal III'!$D10=\"\",\"\",'Cal III'!$D10)","v":""},{"$f":"IF('Cal IV'!$D10=\"\",\"\",'Cal IV'!$D10)","v":""},{"$f":"IF('Cal V'!$D10=\"\",\"\",'Cal V'!$D10)","v":""},{"$f":"IF(AD16=\"\",\"\",IF(AF16=\"\",AVERAGE(AD16:AE16),SUM(AD16:AI16)-MAX(AD16:AI16)-MIN(AD16:AI16)))","v":""},{"$f":"IF(AG16=\"\",1,IF(AH16=\"\",2,IF(AI16=\"\",3,4)))","v":1},{"$f":"IF('Cal I'!$E10=\"\",\"\",'Cal I'!$E10)","v":""},{"$f":"IF('CAL II'!$E10=\"\",\"\",'CAL II'!$E10)","v":""},{"$f":"IF('Cal III'!$E10=\"\",\"\",'Cal III'!$E10)","v":""},{"$f":"IF('Cal IV'!$E10=\"\",\"\",'Cal IV'!$E10)","v":""},{"$f":"IF('Cal V'!$E10=\"\",\"\",'Cal V'!$E10)","v":""},{"$f":"IF('Cal VI'!$E10=\"\",\"\",'Cal VI'!$E10)","v":""},{"$f":"IF(AL16=\"\",\"\",IF(AN16=\"\",AVERAGE(AL16:AM16),SUM(AL16:AQ16)-MAX(AL16:AQ16)-MIN(AL16:AQ16)))","v":""},{"$f":"IF(AO16=\"\",1,IF(AP16=\"\",2,IF(AQ16=\"\",3,4)))","v":1},{"$f":"IF('Cal I'!$F10=\"\",\"\",'Cal I'!$F10)","v":""},{"$f":"IF('Cal I'!$F10=\"\",\"\",'Cal I'!$F10)","v":""},{"$f":"IF('Cal I'!$F10=\"\",\"\",'Cal I'!$F10)","v":""},{"$f":"IF('Cal I'!$F10=\"\",\"\",'Cal I'!$F10)","v":""},{"$f":"IF('Cal I'!$F10=\"\",\"\",'Cal I'!$F10)","v":""},{"$f":"IF('Cal I'!$F10=\"\",\"\",'Cal I'!$F10)","v":""},{"$f":"IF(AT16=\"\",\"\",IF(AV16=\"\",AVERAGE(AT16:AU16),SUM(AT16:AY16)-MAX(AT16:AY16)-MIN(AT16:AY16)))","v":""},{"$f":"IF(AW16=\"\",1,IF(AX16=\"\",2,IF(AY16=\"\",3,4)))","v":1},{"$f":"IF('Cal I'!$G10=\"\",\"\",'Cal I'!$G10)","v":""},{"$f":"IF('Cal I'!$G10=\"\",\"\",'Cal I'!$G10)","v":""},{"$f":"IF('Cal I'!$G10=\"\",\"\",'Cal I'!$G10)","v":""},{"$f":"IF('Cal I'!$G10=\"\",\"\",'Cal I'!$G10)","v":""},{"$f":"IF('Cal I'!$G10=\"\",\"\",'Cal I'!$G10)","v":""},{"$f":"IF('Cal I'!$G10=\"\",\"\",'Cal I'!$G10)","v":""},{"$f":"IF(BB16=\"\",\"\",IF(BD16=\"\",AVERAGE(BB16:BC16),SUM(BB16:BG16)-MAX(BB16:BG16)-MIN(BB16:BG16)))","v":""},{"$f":"IF(BE16=\"\",1,IF(BF16=\"\",2,IF(BG16=\"\",3,4)))","v":1},{"$f":"IF('Cal I'!$H10=\"\",\"\",'Cal I'!$H10)","v":""},{"$f":"IF('Cal I'!$H10=\"\",\"\",'Cal I'!$H10)","v":""},{"$f":"IF('Cal I'!$H10=\"\",\"\",'Cal I'!$H10)","v":""},{"$f":"IF('Cal I'!$H10=\"\",\"\",'Cal I'!$H10)","v":""},{"$f":"IF('Cal I'!$H10=\"\",\"\",'Cal I'!$H10)","v":""},{"$f":"IF('Cal I'!$H10=\"\",\"\",'Cal I'!$H10)","v":""},{"$f":"IF(BJ16=\"\",\"\",IF(BL16=\"\",AVERAGE(BJ16:BK16),SUM(BJ16:BO16)-MAX(BJ16:BO16)-MIN(BJ16:BO16)))","v":""},{"$f":"IF(BM16=\"\",1,IF(BN16=\"\",2,IF(BO16=\"\",3,4)))","v":1},{"$f":"IF('Cal I'!$I10=\"\",\"\",'Cal I'!$I10)","v":""},{"$f":"IF('Cal I'!$I10=\"\",\"\",'Cal I'!$I10)","v":""},{"$f":"IF('Cal I'!$I10=\"\",\"\",'Cal I'!$I10)","v":""},{"$f":"IF('Cal I'!$I10=\"\",\"\",'Cal I'!$I10)","v":""},{"$f":"IF('Cal I'!$I10=\"\",\"\",'Cal I'!$I10)","v":""},{"$f":"IF('Cal I'!$I10=\"\",\"\",'Cal I'!$I10)","v":""},{"$f":"IF(BR16=\"\",\"\",IF(BT16=\"\",AVERAGE(BR16:BS16),SUM(BR16:BW16)-MAX(BR16:BW16)-MIN(BR16:BW16)))","v":""},null,{"$f":"IF('Cal I'!$C10=\"\",\"\",'Cal I'!$C10)","v":""},{"$f":"IF('CAL II'!$C10=\"\",\"\",'[1]CaI II'!$C10)","v":""},{"$f":"IF('CAL II'!$C10=\"\",\"\",'Cal III'!$C10)","v":""},{"$f":"IF('Cal IV'!$C10=\"\",\"\",'Cal III'!$IV10)","v":""},{"$f":"IF('Cal V'!$C10=\"\",\"\",'Cal V'!$C10)","v":""},{"$f":"IF('Cal VI'!$C10=\"\",\"\",'Cal VI'!$C10)","v":""}]
[3,null,null,"","",null,null,"","","","","","","","","","","","","",1,{"$f":"IF('Cal I'!$D11=\"\",\"\",'Cal I'!$D11)","v":""},{"$f":"IF('CAL II'!E11=\"\",\"\",'CAL II'!E11)","v":""},{"$f":"IF('Cal III'!$D11=\"\",\"\",'Cal III'!$D11)","v":""},{"$f":"IF('Cal IV'!$D11=\"\",\"\",'Cal IV'!$D11)","v":""},{"$f":"IF('Cal V'!$D11=\"\",\"\",'Cal V'!$D11)","v":""},{"$f":"IF('Cal VI'!$D11=\"\",\"\",'Cal VI'!$D11)","v":""},"",1,{"$f":"IF('Cal I'!$E11=\"\",\"\",'Cal I'!$E11)","v":""},{"$f":"IF('CAL II'!$E11=\"\",\"\",'CAL II'!$E11)","v":""},{"$f":"IF('Cal III'!$E11=\"\",\"\",'Cal III'!$E11)","v":""},{"$f":"IF('Cal IV'!$E11=\"\",\"\",'Cal IV'!$E11)","v":""},{"$f":"IF('Cal V'!$E11=\"\",\"\",'Cal V'!$E11)","v":""},{"$f":"IF('Cal VI'!$E11=\"\",\"\",'Cal VI'!$E11)","v":""},"",1,{"$f":"IF('Cal I'!$F11=\"\",\"\",'Cal I'!$F11)","v":""},{"$f":"IF('Cal I'!$F11=\"\",\"\",'Cal I'!$F11)","v":""},{"$f":"IF('Cal I'!$F11=\"\",\"\",'Cal I'!$F11)","v":""},{"$f":"IF('Cal I'!$F11=\"\",\"\",'Cal I'!$F11)","v":""},{"$f":"IF('Cal I'!$F11=\"\",\"\",'Cal I'!$F11)","v":""},{"$f":"IF('Cal I'!$F11=\"\",\"\",'Cal I'!$F11)","v":""},"",1,{"$f":"IF('Cal I'!$G11=\"\",\"\",'Cal I'!$G11)","v":""},{"$f":"IF('Cal I'!$G11=\"\",\"\",'Cal I'!$G11)","v":""},{"$f":"IF('Cal I'!$G11=\"\",\"\",'Cal I'!$G11)","v":""},{"$f":"IF('Cal I'!$G11=\"\",\"\",'Cal I'!$G11)","v":""},{"$f":"IF('Cal I'!$G11=\"\",\"\",'Cal I'!$G11)","v":""},{"$f":"IF('Cal I'!$G11=\"\",\"\",'Cal I'!$G11)","v":""},"",1,{"$f":"IF('Cal I'!$H11=\"\",\"\",'Cal I'!$H11)","v":""},{"$f":"IF('Cal I'!$H11=\"\",\"\",'Cal I'!$H11)","v":""},{"$f":"IF('Cal I'!$H11=\"\",\"\",'Cal I'!$H11)","v":""},{"$f":"IF('Cal I'!$H11=\"\",\"\",'Cal I'!$H11)","v":""},{"$f":"IF('Cal I'!$H11=\"\",\"\",'Cal I'!$H11)","v":""},{"$f":"IF('Cal I'!$H11=\"\",\"\",'Cal I'!$H11)","v":""},"",1,{"$f":"IF('Cal I'!$I11=\"\",\"\",'Cal I'!$I11)","v":""},{"$f":"IF('Cal I'!$I11=\"\",\"\",'Cal I'!$I11)","v":""},{"$f":"IF('Cal I'!$I11=\"\",\"\",'Cal I'!$I11)","v":""},{"$f":"IF('Cal I'!$I11=\"\",\"\",'Cal I'!$I11)","v":""},{"$f":"IF('Cal I'!$I11=\"\",\"\",'Cal I'!$I11)","v":""},{"$f":"IF('Cal I'!$I11=\"\",\"\",'Cal I'!$I11)","v":""},"",null,{"$f":"IF('Cal I'!$C11=\"\",\"\",'Cal I'!$C11)","v":""},{"$f":"IF('CAL II'!$C11=\"\",\"\",'[1]CaI II'!$C11)","v":""},{"$f":"IF('CAL II'!$C11=\"\",\"\",'Cal III'!$C11)","v":""},{"$f":"IF('Cal IV'!$C11=\"\",\"\",'Cal III'!$IV11)","v":""},{"$f":"IF('Cal V'!$C11=\"\",\"\",'Cal V'!$C11)","v":""},{"$f":"IF('Cal VI'!$C11=\"\",\"\",'Cal VI'!$C11)","v":""}]
[4,null,null,"","",null,null,"","","","","","","","","","","","","",1,{"$f":"IF('Cal I'!$D12=\"\",\"\",'Cal I'!$D12)","v":""},{"$f":"IF('CAL II'!E12=\"\",\"\",'CAL II'!E12)","v":""},{"$f":"IF('Cal III'!$D12=\"\",\"\",'Cal III'!$D12)","v":""},{"$f":"IF('Cal IV'!$D12=\"\",\"\",'Cal IV'!$D12)","v":""},{"$f":"IF('Cal V'!$D12=\"\",\"\",'Cal V'!$D12)","v":""},{"$f":"IF('Cal VI'!$D12=\"\",\"\",'Cal VI'!$D12)","v":""},"",1,{"$f":"IF('Cal I'!$E12=\"\",\"\",'Cal I'!$E12)","v":""},{"$f":"IF('CAL II'!$E12=\"\",\"\",'CAL II'!$E12)","v":""},{"$f":"IF('Cal III'!$E12=\"\",\"\",'Cal III'!$E12)","v":""},{"$f":"IF('Cal IV'!$E12=\"\",\"\",'Cal IV'!$E12)","v":""},{"$f":"IF('Cal V'!$E12=\"\",\"\",'Cal V'!$E12)","v":""},{"$f":"IF('Cal VI'!$E12=\"\",\"\",'Cal VI'!$E12)","v":""},"",1,{"$f":"IF('Cal I'!$F12=\"\",\"\",'Cal I'!$F12)","v":""},{"$f":"IF('Cal I'!$F12=\"\",\"\",'Cal I'!$F12)","v":""},{"$f":"IF('Cal I'!$F12=\"\",\"\",'Cal I'!$F12)","v":""},{"$f":"IF('Cal I'!$F12=\"\",\"\",'Cal I'!$F12)","v":""},{"$f":"IF('Cal I'!$F12=\"\",\"\",'Cal I'!$F12)","v":""},{"$f":"IF('Cal I'!$F12=\"\",\"\",'Cal I'!$F12)","v":""},"",1,{"$f":"IF('Cal I'!$G12=\"\",\"\",'Cal I'!$G12)","v":""},{"$f":"IF('Cal I'!$G12=\"\",\"\",'Cal I'!$G12)","v":""},{"$f":"IF('Cal I'!$G12=\"\",\"\",'Cal I'!$G12)","v":""},{"$f":"IF('Cal I'!$G12=\"\",\"\",'Cal I'!$G12)","v":""},{"$f":"IF('Cal I'!$G12=\"\",\"\",'Cal I'!$G12)","v":""},{"$f":"IF('Cal I'!$G12=\"\",\"\",'Cal I'!$G12)","v":""},"",1,{"$f":"IF('Cal I'!$H12=\"\",\"\",'Cal I'!$H12)","v":""},{"$f":"IF('Cal I'!$H12=\"\",\"\",'Cal I'!$H12)","v":""},{"$f":"IF('Cal I'!$H12=\"\",\"\",'Cal I'!$H12)","v":""},{"$f":"IF('Cal I'!$H12=\"\",\"\",'Cal I'!$H12)","v":""},{"$f":"IF('Cal I'!$H12=\"\",\"\",'Cal I'!$H12)","v":""},{"$f":"IF('Cal I'!$H12=\"\",\"\",'Cal I'!$H12)","v":""},"",1,{"$f":"IF('Cal I'!$I12=\"\",\"\",'Cal I'!$I12)","v":""},{"$f":"IF('Cal I'!$I12=\"\",\"\",'Cal I'!$I12)","v":""},{"$f":"IF('Cal I'!$I12=\"\",\"\",'Cal I'!$I12)","v":""},{"$f":"IF('Cal I'!$I12=\"\",\"\",'Cal I'!$I12)","v":""},{"$f":"IF('Cal I'!$I12=\"\",\"\",'Cal I'!$I12)","v":""},{"$f":"IF('Cal I'!$I12=\"\",\"\",'Cal I'!$I12)","v":""},"",null,{"$f":"IF('Cal I'!$C12=\"\",\"\",'Cal I'!$C12)","v":""},{"$f":"IF('CAL II'!$C12=\"\",\"\",'[1]CaI II'!$C12)","v":""},{"$f":"IF('CAL II'!$C12=\"\",\"\",'Cal III'!$C12)","v":""},{"$f":"IF('Cal IV'!$C12=\"\",\"\",'Cal III'!$IV12)","v":""},{"$f":"IF('Cal V'!$C12=\"\",\"\",'Cal V'!$C12)","v":""},{"$f":"IF('Cal VI'!$C12=\"\",\"\",'Cal VI'!$C12)","v":""}]
[5,null,null,"","",null,null,"","","","","","","","","","","","","",1,{"$f":"IF('Cal I'!$D13=\"\",\"\",'Cal I'!$D13)","v":""},{"$f":"IF('CAL II'!E13=\"\",\"\",'CAL II'!E13)","v":""},{"$f":"IF('Cal III'!$D13=\"\",\"\",'Cal III'!$D13)","v":""},{"$f":"IF('Cal IV'!$D13=\"\",\"\",'Cal IV'!$D13)","v":""},{"$f":"IF('Cal V'!$D13=\"\",\"\",'Cal V'!$D13)","v":""},{"$f":"IF('Cal VI'!$D13=\"\",\"\",'Cal VI'!$D13)","v":""},"",1,{"$f":"IF('Cal I'!$E13=\"\",\"\",'Cal I'!$E13)","v":""},{"$f":"IF('CAL II'!$E13=\"\",\"\",'CAL II'!$E13)","v":""},{"$f":"IF('Cal III'!$E13=\"\",\"\",'Cal III'!$E13)","v":""},{"$f":"IF('Cal IV'!$E13=\"\",\"\",'Cal IV'!$E13)","v":""},{"$f":"IF('Cal V'!$E13=\"\",\"\",'Cal V'!$E13)","v":""},{"$f":"IF('Cal VI'!$E13=\"\",\"\",'Cal VI'!$E13)","v":""},"",1,{"$f":"IF('Cal I'!$F13=\"\",\"\",'Cal I'!$F13)","v":""},{"$f":"IF('Cal I'!$F13=\"\",\"\",'Cal I'!$F13)","v":""},{"$f":"IF('Cal I'!$F13=\"\",\"\",'Cal I'!$F13)","v":""},{"$f":"IF('Cal I'!$F13=\"\",\"\",'Cal I'!$F13)","v":""},{"$f":"IF('Cal I'!$F13=\"\",\"\",'Cal I'!$F13)","v":""},{"$f":"IF('Cal I'!$F13=\"\",\"\",'Cal I'!$F13)","v":""},"",1,{"$f":"IF('Cal I'!$G13=\"\",\"\",'Cal I'!$G13)","v":""},{"$f":"IF('Cal I'!$G13=\"\",\"\",'Cal I'!$G13)","v":""},{"$f":"IF('Cal I'!$G13=\"\",\"\",'Cal I'!$G13)","v":""},{"$f":"IF('Cal I'!$G13=\"\",\"\",'Cal I'!$G13)","v":""},{"$f":"IF('Cal I'!$G13=\"\",\"\",'Cal I'!$G13)","v":""},{"$f":"IF('Cal I'!$G13=\"\",\"\",'Cal I'!$G13)","v":""},"",1,{"$f":"IF('Cal I'!$H13=\"\",\"\",'Cal I'!$H13)","v":""},{"$f":"IF('Cal I'!$H13=\"\",\"\",'Cal I'!$H13)","v":""},{"$f":"IF('Cal I'!$H13=\"\",\"\",'Cal I'!$H13)","v":""},{"$f":"IF('Cal I'!$H13=\"\",\"\",'Cal I'!$H13)","v":""},{"$f":"IF('Cal I'!$H13=\"\",\"\",'Cal I'!$H13)","v":""},{"$f":"IF('Cal I'!$H13=\"\",\"\",'Cal I'!$H13)","v":""},"",1,{"$f":"IF('Cal I'!$I13=\"\",\"\",'Cal I'!$I13)","v":""},{"$f":"IF('Cal I'!$I13=\"\",\"\",'Cal I'!$I13)","v":""},{"$f":"IF('Cal I'!$I13=\"\",\"\",'Cal I'!$I13)","v":""},{"$f":"IF('Cal I'!$I13=\"\",\"\",'Cal I'!$I13)","v":""},{"$f":"IF('Cal I'!$I13=\"\",\"\",'Cal I'!$I13)","v":""},{"$f":"IF('Cal I'!$I13=\"\",\"\",'Cal I'!$I13)","v":""},"",null,{"$f":"IF('Cal I'!$C13=\"\",\"\",'Cal I'!$C13)","v":""},{"$f":"IF('CAL II'!$C13=\"\",\"\",'[1]CaI II'!$C13)","v":""},{"$f":"IF('CAL II'!$C13=\"\",\"\",'Cal III'!$C13)","v":""},{"$f":"IF('Cal IV'!$C13=\"\",\"\",'Cal III'!$IV13)","v":""},{"$f":"IF('Cal V'!$C13=\"\",\"\",'Cal V'!$C13)","v":""},{"$f":"IF('Cal VI'!$C13=\"\",\"\",'Cal VI'!$C13)","v":""}]
[6,null,null,"","",null,null,"","","","","","","","","","","","","",1,{"$f":"IF('Cal I'!$D14=\"\",\"\",'Cal I'!$D14)","v":""},{"$f":"IF('CAL II'!E14=\"\",\"\",'CAL II'!E14)","v":""},{"$f":"IF('Cal III'!$D14=\"\",\"\",'Cal III'!$D14)","v":""},{"$f":"IF('Cal IV'!$D14=\"\",\"\",'Cal IV'!$D14)","v":""},{"$f":"IF('Cal V'!$D14=\"\",\"\",'Cal V'!$D14)","v":""},{"$f":"IF('Cal VI'!$D14=\"\",\"\",'Cal VI'!$D14)","v":""},"",1,{"$f":"IF('Cal I'!$E14=\"\",\"\",'Cal I'!$E14)","v":""},{"$f":"IF('CAL II'!$E14=\"\",\"\",'CAL II'!$E14)","v":""},{"$f":"IF('Cal III'!$E14=\"\",\"\",'Cal III'!$E14)","v":""},{"$f":"IF('Cal IV'!$E14=\"\",\"\",'Cal IV'!$E14)","v":""},{"$f":"IF('Cal V'!$E14=\"\",\"\",'Cal V'!$E14)","v":""},{"$f":"IF('Cal VI'!$E14=\"\",\"\",'Cal VI'!$E14)","v":""},"",1,{"$f":"IF('Cal I'!$F14=\"\",\"\",'Cal I'!$F14)","v":""},{"$f":"IF('Cal I'!$F14=\"\",\"\",'Cal I'!$F14)","v":""},{"$f":"IF('Cal I'!$F14=\"\",\"\",'Cal I'!$F14)","v":""},{"$f":"IF('Cal I'!$F14=\"\",\"\",'Cal I'!$F14)","v":""},{"$f":"IF('Cal I'!$F14=\"\",\"\",'Cal I'!$F14)","v":""},{"$f":"IF('Cal I'!$F14=\"\",\"\",'Cal I'!$F14)","v":""},"",1,{"$f":"IF('Cal I'!$G14=\"\",\"\",'Cal I'!$G14)","v":""},{"$f":"IF('Cal I'!$G14=\"\",\"\",'Cal I'!$G14)","v":""},{"$f":"IF('Cal I'!$G14=\"\",\"\",'Cal I'!$G14)","v":""},{"$f":"IF('Cal I'!$G14=\"\",\"\",'Cal I'!$G14)","v":""},{"$f":"IF('Cal I'!$G14=\"\",\"\",'Cal I'!$G14)","v":""},{"$f":"IF('Cal I'!$G14=\"\",\"\",'Cal I'!$G14)","v":""},"",1,{"$f":"IF('Cal I'!$H14=\"\",\"\",'Cal I'!$H14)","v":""},{"$f":"IF('Cal I'!$H14=\"\",\"\",'Cal I'!$H14)","v":""},{"$f":"IF('Cal I'!$H14=\"\",\"\",'Cal I'!$H14)","v":""},{"$f":"IF('Cal I'!$H14=\"\",\"\",'Cal I'!$H14)","v":""},{"$f":"IF('Cal I'!$H14=\"\",\"\",'Cal I'!$H14)","v":""},{"$f":"IF('Cal I'!$H14=\"\",\"\",'Cal I'!$H14)","v":""},"",1,{"$f":"IF('Cal I'!$I14=\"\",\"\",'Cal I'!$I14)","v":""},{"$f":"IF('Cal I'!$I14=\"\",\"\",'Cal I'!$I14)","v":""},{"$f":"IF('Cal I'!$I14=\"\",\"\",'Cal I'!$I14)","v":""},{"$f":"IF('Cal I'!$I14=\"\",\"\",'Cal I'!$I14)","v":""},{"$f":"IF('Cal I'!$I14=\"\",\"\",'Cal I'!$I14)","v":""},{"$f":"IF('Cal I'!$I14=\"\",\"\",'Cal I'!$I14)","v":""},"",null,{"$f":"IF('Cal I'!$C14=\"\",\"\",'Cal I'!$C14)","v":""},{"$f":"IF('CAL II'!$C14=\"\",\"\",'[1]CaI II'!$C14)","v":""},{"$f":"IF('CAL II'!$C14=\"\",\"\",'Cal III'!$C14)","v":""},{"$f":"IF('Cal IV'!$C14=\"\",\"\",'Cal III'!$IV14)","v":""},{"$f":"IF('Cal V'!$C14=\"\",\"\",'Cal V'!$C14)","v":""},{"$f":"IF('Cal VI'!$C14=\"\",\"\",'Cal VI'!$C14)","v":""}]
[7,null,null,"","",null,null,"","","","","","","","","","","","","",1,{"$f":"IF('Cal I'!$D15=\"\",\"\",'Cal I'!$D15)","v":""},{"$f":"IF('CAL II'!E15=\"\",\"\",'CAL II'!E15)","v":""},{"$f":"IF('Cal III'!$D15=\"\",\"\",'Cal III'!$D15)","v":""},{"$f":"IF('Cal IV'!$D15=\"\",\"\",'Cal IV'!$D15)","v":""},{"$f":"IF('Cal V'!$D15=\"\",\"\",'Cal V'!$D15)","v":""},{"$f":"IF('Cal VI'!$D15=\"\",\"\",'Cal VI'!$D15)","v":""},"",1,{"$f":"IF('Cal I'!$E15=\"\",\"\",'Cal I'!$E15)","v":""},{"$f":"IF('CAL II'!$E15=\"\",\"\",'CAL II'!$E15)","v":""},{"$f":"IF('Cal III'!$E15=\"\",\"\",'Cal III'!$E15)","v":""},{"$f":"IF('Cal IV'!$E15=\"\",\"\",'Cal IV'!$E15)","v":""},{"$f":"IF('Cal V'!$E15=\"\",\"\",'Cal V'!$E15)","v":""},{"$f":"IF('Cal VI'!$E15=\"\",\"\",'Cal VI'!$E15)","v":""},"",1,{"$f":"IF('Cal I'!$F15=\"\",\"\",'Cal I'!$F15)","v":""},{"$f":"IF('Cal I'!$F15=\"\",\"\",'Cal I'!$F15)","v":""},{"$f":"IF('Cal I'!$F15=\"\",\"\",'Cal I'!$F15)","v":""},{"$f":"IF('Cal I'!$F15=\"\",\"\",'Cal I'!$F15)","v":""},{"$f":"IF('Cal I'!$F15=\"\",\"\",'Cal I'!$F15)","v":""},{"$f":"IF('Cal I'!$F15=\"\",\"\",'Cal I'!$F15)","v":""},"",1,{"$f":"IF('Cal I'!$G15=\"\",\"\",'Cal I'!$G15)","v":""},{"$f":"IF('Cal I'!$G15=\"\",\"\",'Cal I'!$G15)","v":""},{"$f":"IF('Cal I'!$G15=\"\",\"\",'Cal I'!$G15)","v":""},{"$f":"IF('Cal I'!$G15=\"\",\"\",'Cal I'!$G15)","v":""},{"$f":"IF('Cal I'!$G15=\"\",\"\",'Cal I'!$G15)","v":""},{"$f":"IF('Cal I'!$G15=\"\",\"\",'Cal I'!$G15)","v":""},"",1,{"$f":"IF('Cal I'!$H15=\"\",\"\",'Cal I'!$H15)","v":""},{"$f":"IF('Cal I'!$H15=\"\",\"\",'Cal I'!$H15)","v":""},{"$f":"IF('Cal I'!$H15=\"\",\"\",'Cal I'!$H15)","v":""},{"$f":"IF('Cal I'!$H15=\"\",\"\",'Cal I'!$H15)","v":""},{"$f":"IF('Cal I'!$H15=\"\",\"\",'Cal I'!$H15)","v":""},{"$f":"IF('Cal I'!$H15=\"\",\"\",'Cal I'!$H15)","v":""},"",1,{"$f":"IF('Cal I'!$I15=\"\",\"\",'Cal I'!$I15)","v":""},{"$f":"IF('Cal I'!$I15=\"\",\"\",'Cal I'!$I15)","v":""},{"$f":"IF('Cal I'!$I15=\"\",\"\",'Cal I'!$I15)","v":""},{"$f":"IF('Cal I'!$I15=\"\",\"\",'Cal I'!$I15)","v":""},{"$f":"IF('Cal I'!$I15=\"\",\"\",'Cal I'!$I15)","v":""},{"$f":"IF('Cal I'!$I15=\"\",\"\",'Cal I'!$I15)","v":""},"",null,{"$f":"IF('Cal I'!$C15=\"\",\"\",'Cal I'!$C15)","v":""},{"$f":"IF('CAL II'!$C15=\"\",\"\",'[1]CaI II'!$C15)","v":""},{"$f":"IF('CAL II'!$C15=\"\",\"\",'Cal III'!$C15)","v":""},{"$f":"IF('Cal IV'!$C15=\"\",\"\",'Cal III'!$IV15)","v":""},{"$f":"IF('Cal V'!$C15=\"\",\"\",'Cal V'!$C15)","v":""},{"$f":"IF('Cal VI'!$C15=\"\",\"\",'Cal VI'!$C15)","v":""}]
[8,null,null,"","",null,null,"","","","","","","","","","","","","",1,{"$f":"IF('Cal I'!$D16=\"\",\"\",'Cal I'!$D16)","v":""},{"$f":"IF('CAL II'!E16=\"\",\"\",'CAL II'!E16)","v":""},{"$f":"IF('Cal III'!$D16=\"\",\"\",'Cal III'!$D16)","v":""},{"$f":"IF('Cal IV'!$D16=\"\",\"\",'Cal IV'!$D16)","v":""},{"$f":"IF('Cal V'!$D16=\"\",\"\",'Cal V'!$D16)","v":""},{"$f":"IF('Cal VI'!$D16=\"\",\"\",'Cal VI'!$D16)","v":""},"",1,{"$f":"IF('Cal I'!$E16=\"\",\"\",'Cal I'!$E16)","v":""},{"$f":"IF('CAL II'!$E16=\"\",\"\",'CAL II'!$E16)","v":""},{"$f":"IF('Cal III'!$E16=\"\",\"\",'Cal III'!$E16)","v":""},{"$f":"IF('Cal IV'!$E16=\"\",\"\",'Cal IV'!$E16)","v":""},{"$f":"IF('Cal V'!$E16=\"\",\"\",'Cal V'!$E16)","v":""},{"$f":"IF('Cal VI'!$E16=\"\",\"\",'Cal VI'!$E16)","v":""},"",1,{"$f":"IF('Cal I'!$F16=\"\",\"\",'Cal I'!$F16)","v":""},{"$f":"IF('Cal I'!$F16=\"\",\"\",'Cal I'!$F16)","v":""},{"$f":"IF('Cal I'!$F16=\"\",\"\",'Cal I'!$F16)","v":""},{"$f":"IF('Cal I'!$F16=\"\",\"\",'Cal I'!$F16)","v":""},{"$f":"IF('Cal I'!$F16=\"\",\"\",'Cal I'!$F16)","v":""},{"$f":"IF('Cal I'!$F16=\"\",\"\",'Cal I'!$F16)","v":""},"",1,{"$f":"IF('Cal I'!$G16=\"\",\"\",'Cal I'!$G16)","v":""},{"$f":"IF('Cal I'!$G16=\"\",\"\",'Cal I'!$G16)","v":""},{"$f":"IF('Cal I'!$G16=\"\",\"\",'Cal I'!$G16)","v":""},{"$f":"IF('Cal I'!$G16=\"\",\"\",'Cal I'!$G16)","v":""},{"$f":"IF('Cal I'!$G16=\"\",\"\",'Cal I'!$G16)","v":""},{"$f":"IF('Cal I'!$G16=\"\",\"\",'Cal I'!$G16)","v":""},"",1,{"$f":"IF('Cal I'!$H16=\"\",\"\",'Cal I'!$H16)","v":""},{"$f":"IF('Cal I'!$H16=\"\",\"\",'Cal I'!$H16)","v":""},{"$f":"IF('Cal I'!$H16=\"\",\"\",'Cal I'!$H16)","v":""},{"$f":"IF('Cal I'!$H16=\"\",\"\",'Cal I'!$H16)","v":""},{"$f":"IF('Cal I'!$H16=\"\",\"\",'Cal I'!$H16)","v":""},{"$f":"IF('Cal I'!$H16=\"\",\"\",'Cal I'!$H16)","v":""},"",1,{"$f":"IF('Cal I'!$I16=\"\",\"\",'Cal I'!$I16)","v":""},{"$f":"IF('Cal I'!$I16=\"\",\"\",'Cal I'!$I16)","v":""},{"$f":"IF('Cal I'!$I16=\"\",\"\",'Cal I'!$I16)","v":""},{"$f":"IF('Cal I'!$I16=\"\",\"\",'Cal I'!$I16)","v":""},{"$f":"IF('Cal I'!$I16=\"\",\"\",'Cal I'!$I16)","v":""},{"$f":"IF('Cal I'!$I16=\"\",\"\",'Cal I'!$I16)","v":""},"",null,{"$f":"IF('Cal I'!$C16=\"\",\"\",'Cal I'!$C16)","v":""},{"$f":"IF('CAL II'!$C16=\"\",\"\",'[1]CaI II'!$C16)","v":""},{"$f":"IF('CAL II'!$C16=\"\",\"\",'Cal III'!$C16)","v":""},{"$f":"IF('Cal IV'!$C16=\"\",\"\",'Cal III'!$IV16)","v":""},{"$f":"IF('Cal V'!$C16=\"\",\"\",'Cal V'!$C16)","v":""},{"$f":"IF('Cal VI'!$C16=\"\",\"\",'Cal VI'!$C16)","v":""}]
[9,null,null,{"$f":"BP23","v":""},{"$f":"IF(D23=\"\",\"\",D23/$D$45)","v":""},null,null,"","","","","","","","","","","","","",1,{"$f":"IF('Cal I'!$D17=\"\",\"\",'Cal I'!$D17)","v":""},{"$f":"IF('CAL II'!E17=\"\",\"\",'CAL II'!E17)","v":""},{"$f":"IF('Cal III'!$D17=\"\",\"\",'Cal III'!$D17)","v":""},{"$f":"IF('Cal IV'!$D17=\"\",\"\",'Cal IV'!$D17)","v":""},{"$f":"IF('Cal V'!$D17=\"\",\"\",'Cal V'!$D17)","v":""},{"$f":"IF('Cal VI'!$D17=\"\",\"\",'Cal VI'!$D17)","v":""},"",1,{"$f":"IF('Cal I'!$E17=\"\",\"\",'Cal I'!$E17)","v":""},{"$f":"IF('CAL II'!$E17=\"\",\"\",'CAL II'!$E17)","v":""},{"$f":"IF('Cal III'!$E17=\"\",\"\",'Cal III'!$E17)","v":""},{"$f":"IF('Cal IV'!$E17=\"\",\"\",'Cal IV'!$E17)","v":""},{"$f":"IF('Cal V'!$E17=\"\",\"\",'Cal V'!$E17)","v":""},{"$f":"IF('Cal VI'!$E17=\"\",\"\",'Cal VI'!$E17)","v":""},"",1,{"$f":"IF('Cal I'!$F17=\"\",\"\",'Cal I'!$F17)","v":""},{"$f":"IF('Cal I'!$F17=\"\",\"\",'Cal I'!$F17)","v":""},{"$f":"IF('Cal I'!$F17=\"\",\"\",'Cal I'!$F17)","v":""},{"$f":"IF('Cal I'!$F17=\"\",\"\",'Cal I'!$F17)","v":""},{"$f":"IF('Cal I'!$F17=\"\",\"\",'Cal I'!$F17)","v":""},{"$f":"IF('Cal I'!$F17=\"\",\"\",'Cal I'!$F17)","v":""},"",1,{"$f":"IF('Cal I'!$G17=\"\",\"\",'Cal I'!$G17)","v":""},{"$f":"IF('Cal I'!$G17=\"\",\"\",'Cal I'!$G17)","v":""},{"$f":"IF('Cal I'!$G17=\"\",\"\",'Cal I'!$G17)","v":""},{"$f":"IF('Cal I'!$G17=\"\",\"\",'Cal I'!$G17)","v":""},{"$f":"IF('Cal I'!$G17=\"\",\"\",'Cal I'!$G17)","v":""},{"$f":"IF('Cal I'!$G17=\"\",\"\",'Cal I'!$G17)","v":""},"",1,{"$f":"IF('Cal I'!$H17=\"\",\"\",'Cal I'!$H17)","v":""},{"$f":"IF('Cal I'!$H17=\"\",\"\",'Cal I'!$H17)","v":""},{"$f":"IF('Cal I'!$H17=\"\",\"\",'Cal I'!$H17)","v":""},{"$f":"IF('Cal I'!$H17=\"\",\"\",'Cal I'!$H17)","v":""},{"$f":"IF('Cal I'!$H17=\"\",\"\",'Cal I'!$H17)","v":""},{"$f":"IF('Cal I'!$H17=\"\",\"\",'Cal I'!$H17)","v":""},"",1,{"$f":"IF('Cal I'!$I17=\"\",\"\",'Cal I'!$I17)","v":""},{"$f":"IF('Cal I'!$I17=\"\",\"\",'Cal I'!$I17)","v":""},{"$f":"IF('Cal I'!$I17=\"\",\"\",'Cal I'!$I17)","v":""},{"$f":"IF('Cal I'!$I17=\"\",\"\",'Cal I'!$I17)","v":""},{"$f":"IF('Cal I'!$I17=\"\",\"\",'Cal I'!$I17)","v":""},{"$f":"IF('Cal I'!$I17=\"\",\"\",'Cal I'!$I17)","v":""},"",null,{"$f":"IF('Cal I'!$C17=\"\",\"\",'Cal I'!$C17)","v":""},{"$f":"IF('CAL II'!$C17=\"\",\"\",'[1]CaI II'!$C17)","v":""},{"$f":"IF('CAL II'!$C17=\"\",\"\",'Cal III'!$C17)","v":""},{"$f":"IF('Cal IV'!$C17=\"\",\"\",'Cal III'!$IV17)","v":""},{"$f":"IF('Cal V'!$C17=\"\",\"\",'Cal V'!$C17)","v":""},{"$f":"IF('Cal VI'!$C17=\"\",\"\",'Cal VI'!$C17)","v":""}]
[10,null,null,"","",null,null,"","","","","","","","","","","","","",1,{"$f":"IF('Cal I'!$D18=\"\",\"\",'Cal I'!$D18)","v":""},{"$f":"IF('CAL II'!E18=\"\",\"\",'CAL II'!E18)","v":""},{"$f":"IF('Cal III'!$D18=\"\",\"\",'Cal III'!$D18)","v":""},{"$f":"IF('Cal IV'!$D18=\"\",\"\",'Cal IV'!$D18)","v":""},{"$f":"IF('Cal V'!$D18=\"\",\"\",'Cal V'!$D18)","v":""},{"$f":"IF('Cal VI'!$D18=\"\",\"\",'Cal VI'!$D18)","v":""},"",1,{"$f":"IF('Cal I'!$E18=\"\",\"\",'Cal I'!$E18)","v":""},{"$f":"IF('CAL II'!$E18=\"\",\"\",'CAL II'!$E18)","v":""},{"$f":"IF('Cal III'!$E18=\"\",\"\",'Cal III'!$E18)","v":""},{"$f":"IF('Cal IV'!$E18=\"\",\"\",'Cal IV'!$E18)","v":""},{"$f":"IF('Cal V'!$E18=\"\",\"\",'Cal V'!$E18)","v":""},{"$f":"IF('Cal VI'!$E18=\"\",\"\",'Cal VI'!$E18)","v":""},"",1,{"$f":"IF('Cal I'!$F18=\"\",\"\",'Cal I'!$F18)","v":""},{"$f":"IF('Cal I'!$F18=\"\",\"\",'Cal I'!$F18)","v":""},{"$f":"IF('Cal I'!$F18=\"\",\"\",'Cal I'!$F18)","v":""},{"$f":"IF('Cal I'!$F18=\"\",\"\",'Cal I'!$F18)","v":""},{"$f":"IF('Cal I'!$F18=\"\",\"\",'Cal I'!$F18)","v":""},{"$f":"IF('Cal I'!$F18=\"\",\"\",'Cal I'!$F18)","v":""},"",1,{"$f":"IF('Cal I'!$G18=\"\",\"\",'Cal I'!$G18)","v":""},{"$f":"IF('Cal I'!$G18=\"\",\"\",'Cal I'!$G18)","v":""},{"$f":"IF('Cal I'!$G18=\"\",\"\",'Cal I'!$G18)","v":""},{"$f":"IF('Cal I'!$G18=\"\",\"\",'Cal I'!$G18)","v":""},{"$f":"IF('Cal I'!$G18=\"\",\"\",'Cal I'!$G18)","v":""},{"$f":"IF('Cal I'!$G18=\"\",\"\",'Cal I'!$G18)","v":""},"",1,{"$f":"IF('Cal I'!$H18=\"\",\"\",'Cal I'!$H18)","v":""},{"$f":"IF('Cal I'!$H18=\"\",\"\",'Cal I'!$H18)","v":""},{"$f":"IF('Cal I'!$H18=\"\",\"\",'Cal I'!$H18)","v":""},{"$f":"IF('Cal I'!$H18=\"\",\"\",'Cal I'!$H18)","v":""},{"$f":"IF('Cal I'!$H18=\"\",\"\",'Cal I'!$H18)","v":""},{"$f":"IF('Cal I'!$H18=\"\",\"\",'Cal I'!$H18)","v":""},"",1,{"$f":"IF('Cal I'!$I18=\"\",\"\",'Cal I'!$I18)","v":""},{"$f":"IF('Cal I'!$I18=\"\",\"\",'Cal I'!$I18)","v":""},{"$f":"IF('Cal I'!$I18=\"\",\"\",'Cal I'!$I18)","v":""},{"$f":"IF('Cal I'!$I18=\"\",\"\",'Cal I'!$I18)","v":""},{"$f":"IF('Cal I'!$I18=\"\",\"\",'Cal I'!$I18)","v":""},{"$f":"IF('Cal I'!$I18=\"\",\"\",'Cal I'!$I18)","v":""},"",null,{"$f":"IF('Cal I'!$C18=\"\",\"\",'Cal I'!$C18)","v":""},{"$f":"IF('CAL II'!$C18=\"\",\"\",'[1]CaI II'!$C18)","v":""},{"$f":"IF('CAL II'!$C18=\"\",\"\",'Cal III'!$C18)","v":""},{"$f":"IF('Cal IV'!$C18=\"\",\"\",'Cal III'!$IV18)","v":""},{"$f":"IF('Cal V'!$C18=\"\",\"\",'Cal V'!$C18)","v":""},{"$f":"IF('Cal VI'!$C18=\"\",\"\",'Cal VI'!$C18)","v":""}]
[11,null,null,"","",null,null,"","","","","","","","","","","","","",1,{"$f":"IF('Cal I'!$D19=\"\",\"\",'Cal I'!$D19)","v":""},{"$f":"IF('CAL II'!E19=\"\",\"\",'CAL II'!E19)","v":""},{"$f":"IF('Cal III'!$D19=\"\",\"\",'Cal III'!$D19)","v":""},{"$f":"IF('Cal IV'!$D19=\"\",\"\",'Cal IV'!$D19)","v":""},{"$f":"IF('Cal V'!$D19=\"\",\"\",'Cal V'!$D19)","v":""},{"$f":"IF('Cal VI'!$D19=\"\",\"\",'Cal VI'!$D19)","v":""},"",1,{"$f":"IF('Cal I'!$E19=\"\",\"\",'Cal I'!$E19)","v":""},{"$f":"IF('CAL II'!$E19=\"\",\"\",'CAL II'!$E19)","v":""},{"$f":"IF('Cal III'!$E19=\"\",\"\",'Cal III'!$E19)","v":""},{"$f":"IF('Cal IV'!$E19=\"\",\"\",'Cal IV'!$E19)","v":""},{"$f":"IF('Cal V'!$E19=\"\",\"\",'Cal V'!$E19)","v":""},{"$f":"IF('Cal VI'!$E19=\"\",\"\",'Cal VI'!$E19)","v":""},"",1,{"$f":"IF('Cal I'!$F19=\"\",\"\",'Cal I'!$F19)","v":""},{"$f":"IF('Cal I'!$F19=\"\",\"\",'Cal I'!$F19)","v":""},{"$f":"IF('Cal I'!$F19=\"\",\"\",'Cal I'!$F19)","v":""},{"$f":"IF('Cal I'!$F19=\"\",\"\",'Cal I'!$F19)","v":""},{"$f":"IF('Cal I'!$F19=\"\",\"\",'Cal I'!$F19)","v":""},{"$f":"IF('Cal I'!$F19=\"\",\"\",'Cal I'!$F19)","v":""},"",1,{"$f":"IF('Cal I'!$G19=\"\",\"\",'Cal I'!$G19)","v":""},{"$f":"IF('Cal I'!$G19=\"\",\"\",'Cal I'!$G19)","v":""},{"$f":"IF('Cal I'!$G19=\"\",\"\",'Cal I'!$G19)","v":""},{"$f":"IF('Cal I'!$G19=\"\",\"\",'Cal I'!$G19)","v":""},{"$f":"IF('Cal I'!$G19=\"\",\"\",'Cal I'!$G19)","v":""},{"$f":"IF('Cal I'!$G19=\"\",\"\",'Cal I'!$G19)","v":""},"",1,{"$f":"IF('Cal I'!$H19=\"\",\"\",'Cal I'!$H19)","v":""},{"$f":"IF('Cal I'!$H19=\"\",\"\",'Cal I'!$H19)","v":""},{"$f":"IF('Cal I'!$H19=\"\",\"\",'Cal I'!$H19)","v":""},{"$f":"IF('Cal I'!$H19=\"\",\"\",'Cal I'!$H19)","v":""},{"$f":"IF('Cal I'!$H19=\"\",\"\",'Cal I'!$H19)","v":""},{"$f":"IF('Cal I'!$H19=\"\",\"\",'Cal I'!$H19)","v":""},"",1,{"$f":"IF('Cal I'!$I19=\"\",\"\",'Cal I'!$I19)","v":""},{"$f":"IF('Cal I'!$I19=\"\",\"\",'Cal I'!$I19)","v":""},{"$f":"IF('Cal I'!$I19=\"\",\"\",'Cal I'!$I19)","v":""},{"$f":"IF('Cal I'!$I19=\"\",\"\",'Cal I'!$I19)","v":""},{"$f":"IF('Cal I'!$I19=\"\",\"\",'Cal I'!$I19)","v":""},{"$f":"IF('Cal I'!$I19=\"\",\"\",'Cal I'!$I19)","v":""},"",null,{"$f":"IF('Cal I'!$C19=\"\",\"\",'Cal I'!$C19)","v":""},{"$f":"IF('CAL II'!$C19=\"\",\"\",'[1]CaI II'!$C19)","v":""},{"$f":"IF('CAL II'!$C19=\"\",\"\",'Cal III'!$C19)","v":""},{"$f":"IF('Cal IV'!$C19=\"\",\"\",'Cal III'!$IV19)","v":""},{"$f":"IF('Cal V'!$C19=\"\",\"\",'Cal V'!$C19)","v":""},{"$f":"IF('Cal VI'!$C19=\"\",\"\",'Cal VI'!$C19)","v":""}]
[12,null,null,"","",null,null,"","","","","","","","","","","","","",1,{"$f":"IF('Cal I'!$D20=\"\",\"\",'Cal I'!$D20)","v":""},{"$f":"IF('CAL II'!E20=\"\",\"\",'CAL II'!E20)","v":""},{"$f":"IF('Cal III'!$D20=\"\",\"\",'Cal III'!$D20)","v":""},{"$f":"IF('Cal IV'!$D20=\"\",\"\",'Cal IV'!$D20)","v":""},{"$f":"IF('Cal V'!$D20=\"\",\"\",'Cal V'!$D20)","v":""},{"$f":"IF('Cal VI'!$D20=\"\",\"\",'Cal VI'!$D20)","v":""},"",1,{"$f":"IF('Cal I'!$E20=\"\",\"\",'Cal I'!$E20)","v":""},{"$f":"IF('CAL II'!$E20=\"\",\"\",'CAL II'!$E20)","v":""},{"$f":"IF('Cal III'!$E20=\"\",\"\",'Cal III'!$E20)","v":""},{"$f":"IF('Cal IV'!$E20=\"\",\"\",'Cal IV'!$E20)","v":""},{"$f":"IF('Cal V'!$E20=\"\",\"\",'Cal V'!$E20)","v":""},{"$f":"IF('Cal VI'!$E20=\"\",\"\",'Cal VI'!$E20)","v":""},"",1,{"$f":"IF('Cal I'!$F20=\"\",\"\",'Cal I'!$F20)","v":""},{"$f":"IF('Cal I'!$F20=\"\",\"\",'Cal I'!$F20)","v":""},{"$f":"IF('Cal I'!$F20=\"\",\"\",'Cal I'!$F20)","v":""},{"$f":"IF('Cal I'!$F20=\"\",\"\",'Cal I'!$F20)","v":""},{"$f":"IF('Cal I'!$F20=\"\",\"\",'Cal I'!$F20)","v":""},{"$f":"IF('Cal I'!$F20=\"\",\"\",'Cal I'!$F20)","v":""},"",1,{"$f":"IF('Cal I'!$G20=\"\",\"\",'Cal I'!$G20)","v":""},{"$f":"IF('Cal I'!$G20=\"\",\"\",'Cal I'!$G20)","v":""},{"$f":"IF('Cal I'!$G20=\"\",\"\",'Cal I'!$G20)","v":""},{"$f":"IF('Cal I'!$G20=\"\",\"\",'Cal I'!$G20)","v":""},{"$f":"IF('Cal I'!$G20=\"\",\"\",'Cal I'!$G20)","v":""},{"$f":"IF('Cal I'!$G20=\"\",\"\",'Cal I'!$G20)","v":""},"",1,{"$f":"IF('Cal I'!$H20=\"\",\"\",'Cal I'!$H20)","v":""},{"$f":"IF('Cal I'!$H20=\"\",\"\",'Cal I'!$H20)","v":""},{"$f":"IF('Cal I'!$H20=\"\",\"\",'Cal I'!$H20)","v":""},{"$f":"IF('Cal I'!$H20=\"\",\"\",'Cal I'!$H20)","v":""},{"$f":"IF('Cal I'!$H20=\"\",\"\",'Cal I'!$H20)","v":""},{"$f":"IF('Cal I'!$H20=\"\",\"\",'Cal I'!$H20)","v":""},"",1,{"$f":"IF('Cal I'!$I20=\"\",\"\",'Cal I'!$I20)","v":""},{"$f":"IF('Cal I'!$I20=\"\",\"\",'Cal I'!$I20)","v":""},{"$f":"IF('Cal I'!$I20=\"\",\"\",'Cal I'!$I20)","v":""},{"$f":"IF('Cal I'!$I20=\"\",\"\",'Cal I'!$I20)","v":""},{"$f":"IF('Cal I'!$I20=\"\",\"\",'Cal I'!$I20)","v":""},{"$f":"IF('Cal I'!$I20=\"\",\"\",'Cal I'!$I20)","v":""},"",null,{"$f":"IF('Cal I'!$C20=\"\",\"\",'Cal I'!$C20)","v":""},{"$f":"IF('CAL II'!$C20=\"\",\"\",'[1]CaI II'!$C20)","v":""},{"$f":"IF('CAL II'!$C20=\"\",\"\",'Cal III'!$C20)","v":""},{"$f":"IF('Cal IV'!$C20=\"\",\"\",'Cal III'!$IV20)","v":""},{"$f":"IF('Cal V'!$C20=\"\",\"\",'Cal V'!$C20)","v":""},{"$f":"IF('Cal VI'!$C20=\"\",\"\",'Cal VI'!$C20)","v":""}]
[null,null,"Total cualitativo:",{"$f":"SUM(D15:D26)","v":0},{"$f":"SUM(E15:E26)","v":{"v":0,"d":"0.00%"}},{"$nulls":7},"Totales cualitativos:",{"$f":"SUM(N15:N26)","v":{"v":0,"d":"0.00"}},0,0,0,0,0,{"$nulls":50},{"$f":"IF('Cal I'!$C21=\"\",\"\",'Cal I'!$C21)","v":""}]
[]
["Consideración de aspectos cuantitativos",{"$nulls":20},"A",{"$f":"$N$45","v":{"v":0,"d":"0.00"}},{"$f":"_xlfn.RANK.EQ(W29,W$29:W$33,0)","v":1}]
["Aspecto",{"$nulls":4},"Objetivo",null,"Valoraciones de opciones",{"$nulls":5},"Puntaje",{"$nulls":7},"B",{"$f":"$O$45","v":0},{"$f":"_xlfn.RANK.EQ(W30,W$29:W$33,0)","v":1}]
["Número ","Descripción",null,"Puntaje","%","Max","Min","A","B","C","D","E","F","A","B","C","D","E","F",null,null,"C",{"$f":"$P$45","v":0},1,{"$nulls":45},"Valoraciones de A"]
[1,null,null,{"$f":"BP33","v":""},{"$f":"IF(D32=\"\",\"\",D32/$D$45)","v":""},{"$nulls":8},{"$f":"IF(H32=\"\",\"\",IF($F32=\"X\",H32/MAX($H32:$M32),MIN($H32:$M32)/H32)*$E32*100)","v":""},"",{"$f":"IF(J32=\"\",\"\",IF($F32=\"X\",J32/MAX($H32:$M32),MIN($H32:$M32)/J32)*$E32*100)","v":""},{"$f":"IF(K32=\"\",\"\",IF($F32=\"X\",K32/MAX($H32:$M32),MIN($H32:$M32)/K32)*$E32*100)","v":""},{"$f":"IF(L32=\"\",\"\",IF($F32=\"X\",L32/MAX($H32:$M32),MIN($H32:$M32)/L32)*$E32*100)","v":""},{"$f":"IF(M32=\"\",\"\",IF($F32=\"X\",M32/MAX($H32:$M32),MIN($H32:$M32)/M32)*$E32*100)","v":""},null,null,"D",{"$f":"$Q$45","v":0},1,{"$nulls":45},"I","II","III","IV","V","VI"]
[2,null,null,{"$f":"BP34","v":""},"",{"$nulls":8},{"$f":"IF(H33=\"\",\"\",IF($F33=\"X\",H33/MAX($H33:$M33),MIN($H33:$M33)/H33)*$E33*100)","v":""},"","","","","",null,null,"E",{"$f":"$R$45","v":0},1,{"$nulls":43},{"$f":"IF(BR33=\"\",\"\",IF(BT33=\"\",AVERAGE(BR33:BS33),SUM(BR33:BW33)-MAX(BR33:BW33)-MIN(BR33:BW33)))","v":""},null,{"$f":"IF('Cal I'!$C23=\"\",\"\",'Cal I'!$C23)","v":""},{"$f":"IF('CAL II'!$C23=\"\",\"\",'[1]CaI II'!$C23)","v":""},{"$f":"IF('CAL II'!$C23=\"\",\"\",'Cal III'!$C23)","v":""},{"$f":"IF('Cal IV'!$C23=\"\",\"\",'Cal III'!$IV23)","v":""},{"$f":"IF('Cal V'!$C23=\"\",\"\",'Cal V'!$C23)","v":""},{"$f":"IF('Cal VI'!$C23=\"\",\"\",'Cal VI'!$C23)","v":""}]
[3,null,null,"","",{"$nulls":8},"","","","","","",null,null,"F",{"$f":"$S$45","v":0},1,{"$nulls":43},{"$f":"IF(BR34=\"\",\"\",IF(BT34=\"\",AVERAGE(BR34:BS34),SUM(BR34:BW34)-MAX(BR34:BW34)-MIN(BR34:BW34)))","v":""},null,{"$f":"IF('Cal I'!$C24=\"\",\"\",'Cal I'!$C24)","v":""},{"$f":"IF('CAL II'!$C24=\"\",\"\",'[1]CaI II'!$C24)","v":""},{"$f":"IF('CAL II'!$C24=\"\",\"\",'Cal III'!$C24)","v":""},{"$f":"IF('Cal IV'!$C24=\"\",\"\",'Cal III'!$IV24)","v":""},{"$f":"IF('Cal V'!$C24=\"\",\"\",'Cal V'!$C24)","v":""},{"$f":"IF('Cal VI'!$C24=\"\",\"\",'Cal VI'!$C24)","v":""}]
[4,null,null,"","",{"$nulls":8},"","","","","","",{"$nulls":48},"",null,{"$f":"IF('Cal I'!$C25=\"\",\"\",'Cal I'!$C25)","v":""},{"$f":"IF('CAL II'!$C25=\"\",\"\",'[1]CaI II'!$C25)","v":""},{"$f":"IF('CAL II'!$C25=\"\",\"\",'Cal III'!$C25)","v":""},{"$f":"IF('Cal IV'!$C25=\"\",\"\",'Cal III'!$IV25)","v":""},{"$f":"IF('Cal V'!$C25=\"\",\"\",'Cal V'!$C25)","v":""},{"$f":"IF('Cal VI'!$C25=\"\",\"\",'Cal VI'!$C25)","v":""}]
[5,null,null,"","",{"$nulls":8},"","","","","","",{"$nulls":48},"",null,{"$f":"IF('Cal I'!$C26=\"\",\"\",'Cal I'!$C26)","v":""},{"$f":"IF('CAL II'!$C26=\"\",\"\",'[1]CaI II'!$C26)","v":""},{"$f":"IF('CAL II'!$C26=\"\",\"\",'Cal III'!$C26)","v":""},{"$f":"IF('Cal IV'!$C26=\"\",\"\",'Cal III'!$IV26)","v":""},{"$f":"IF('Cal V'!$C26=\"\",\"\",'Cal V'!$C26)","v":""},{"$f":"IF('Cal VI'!$C26=\"\",\"\",'Cal VI'!$C26)","v":""}]
[6,null,null,"","",{"$nulls":8},"","","","","","",{"$nulls":48},"",null,{"$f":"IF('Cal I'!$C27=\"\",\"\",'Cal I'!$C27)","v":""},{"$f":"IF('CAL II'!$C27=\"\",\"\",'[1]CaI II'!$C27)","v":""},{"$f":"IF('CAL II'!$C27=\"\",\"\",'Cal III'!$C27)","v":""},{"$f":"IF('Cal IV'!$C27=\"\",\"\",'Cal III'!$IV27)","v":""},{"$f":"IF('Cal V'!$C27=\"\",\"\",'Cal V'!$C27)","v":""},{"$f":"IF('Cal VI'!$C27=\"\",\"\",'Cal VI'!$C27)","v":""}]
[7,null,null,"","",{"$nulls":8},"","","","","","",{"$nulls":48},"",null,{"$f":"IF('Cal I'!$C28=\"\",\"\",'Cal I'!$C28)","v":""},{"$f":"IF('CAL II'!$C28=\"\",\"\",'[1]CaI II'!$C28)","v":""},{"$f":"IF('CAL II'!$C28=\"\",\"\",'Cal III'!$C28)","v":""},{"$f":"IF('Cal IV'!$C28=\"\",\"\",'Cal III'!$IV28)","v":""},{"$f":"IF('Cal V'!$C28=\"\",\"\",'Cal V'!$C28)","v":""},{"$f":"IF('Cal VI'!$C28=\"\",\"\",'Cal VI'!$C28)","v":""}]
[8,null,null,"","",{"$nulls":8},"","","","","","",{"$nulls":48},"",null,{"$f":"IF('Cal I'!$C29=\"\",\"\",'Cal I'!$C29)","v":""},{"$f":"IF('CAL II'!$C29=\"\",\"\",'[1]CaI II'!$C29)","v":""},{"$f":"IF('CAL II'!$C29=\"\",\"\",'Cal III'!$C29)","v":""},{"$f":"IF('Cal IV'!$C29=\"\",\"\",'Cal III'!$IV29)","v":""},{"$f":"IF('Cal V'!$C29=\"\",\"\",'Cal V'!$C29)","v":""},{"$f":"IF('Cal VI'!$C29=\"\",\"\",'Cal VI'!$C29)","v":""}]
[9,null,null,"","",{"$nulls":8},"","","","","","",{"$nulls":48},"",null,{"$f":"IF('Cal I'!$C30=\"\",\"\",'Cal I'!$C30)","v":""},{"$f":"IF('CAL II'!$C30=\"\",\"\",'[1]CaI II'!$C30)","v":""},{"$f":"IF('CAL II'!$C30=\"\",\"\",'Cal III'!$C30)","v":""},{"$f":"IF('Cal IV'!$C30=\"\",\"\",'Cal III'!$IV30)","v":""},{"$f":"IF('Cal V'!$C30=\"\",\"\",'Cal V'!$C30)","v":""},{"$f":"IF('Cal VI'!$C30=\"\",\"\",'Cal VI'!$C30)","v":""}]
[10,null,null,"","",{"$nulls":8},"","","","","","",{"$nulls":48},"",null,{"$f":"IF('Cal I'!$C31=\"\",\"\",'Cal I'!$C31)","v":""},{"$f":"IF('CAL II'!$C31=\"\",\"\",'[1]CaI II'!$C31)","v":""},{"$f":"IF('CAL II'!$C31=\"\",\"\",'Cal III'!$C31)","v":""},{"$f":"IF('Cal IV'!$C31=\"\",\"\",'Cal III'!$IV31)","v":""},{"$f":"IF('Cal V'!$C31=\"\",\"\",'Cal V'!$C31)","v":""},{"$f":"IF('Cal VI'!$C31=\"\",\"\",'Cal VI'!$C31)","v":""}]
[11,null,null,"","",{"$nulls":8},"","","","","","",{"$nulls":48},"",null,{"$f":"IF('Cal I'!$C32=\"\",\"\",'Cal I'!$C32)","v":""},{"$f":"IF('CAL II'!$C32=\"\",\"\",'[1]CaI II'!$C32)","v":""},{"$f":"IF('CAL II'!$C32=\"\",\"\",'Cal III'!$C32)","v":""},{"$f":"IF('Cal IV'!$C32=\"\",\"\",'Cal III'!$IV32)","v":""},{"$f":"IF('Cal V'!$C32=\"\",\"\",'Cal V'!$C32)","v":""},{"$f":"IF('Cal VI'!$C32=\"\",\"\",'Cal VI'!$C32)","v":""}]
[12,null,null,"","",{"$nulls":8},"","","","","","",{"$nulls":48},"",null,{"$f":"IF('Cal I'!$C33=\"\",\"\",'Cal I'!$C33)","v":""},{"$f":"IF('CAL II'!$C33=\"\",\"\",'[1]CaI II'!$C33)","v":""},{"$f":"IF('CAL II'!$C33=\"\",\"\",'Cal III'!$C33)","v":""},{"$f":"IF('Cal IV'!$C33=\"\",\"\",'Cal III'!$IV33)","v":""},{"$f":"IF('Cal V'!$C33=\"\",\"\",'Cal V'!$C33)","v":""},{"$f":"IF('Cal VI'!$C33=\"\",\"\",'Cal VI'!$C33)","v":""}]
[null,null,"Total cuantitativo:",{"$f":"SUM(D32:D43)","v":0},{"$f":"SUM(E32:E43)","v":{"v":0,"d":"0.00%"}},{"$nulls":7},"Totales cuantitativos:",{"$f":"SUM(N32:N43)","v":{"v":0,"d":"0.00"}},{"$f":"SUM(O32:O43)","v":{"v":0,"d":"0.00"}},{"$f":"SUM(P32:P43)","v":0},{"$f":"SUM(Q32:Q43)","v":0},{"$f":"SUM(R32:R43)","v":0},{"$f":"SUM(S32:S43)","v":0},{"$nulls":48},"",null,{"$f":"IF('Cal I'!$C34=\"\",\"\",'Cal I'!$C34)","v":""},{"$f":"IF('CAL II'!$C34=\"\",\"\",'[1]CaI II'!$C34)","v":""},{"$f":"IF('CAL II'!$C34=\"\",\"\",'Cal III'!$C34)","v":""},{"$f":"IF('Cal IV'!$C34=\"\",\"\",'Cal III'!$IV34)","v":""},{"$f":"IF('Cal V'!$C34=\"\",\"\",'Cal V'!$C34)","v":""},{"$f":"IF('Cal VI'!$C34=\"\",\"\",'Cal VI'!$C34)","v":""}]
[null,null,"Total general:",{"$f":"D44+D27","v":0},{"$f":"E44+E27","v":{"v":0,"d":"0.00%"}},{"$nulls":7},"Total general:",{"$f":"N44+N27","v":{"v":0,"d":"0.00"}},0,{"$f":"P44+P27","v":0},{"$f":"Q44+Q27","v":0},{"$f":"R44+R27","v":0},{"$f":"S44+S27","v":0}]
[{"$nulls":12},"Mejor:",{"$f":"IF(N45=0,\"\",CONCATENATE(_xlfn.RANK.EQ(N45,$N45:$S45),\"º\"))","v":""},{"$f":"IF(O45=0,\"\",CONCATENATE(_xlfn.RANK.EQ(O45,$N45:$S45),\"º\"))","v":""},"","","",""]
["Selección: ",{"$f":"IF(SUM(N47:S47)>1, \"Empate\",IF(MAX($N45:$S45)=N45,B5,IF(MAX($N45:$S45)=O45,B6,IF(MAX($N45:$S45)=P45,B7,IF(MAX($N45:$S45)=Q45,B8,IF(MAX($N45:$S45)=R45,B9,B10))))))","v":0},{"$nulls":9},{"$f":"IF(SUM(N47:S47)>1, \"Empate\",\"\")","v":""}]

{"sheet":"Cal I","index":1,"n_rows":34,"n_cols":9,"rows_kept":34,"merged":[[6,0,6,2],[6,3,6,4],[21,0,21,2]]}
["Matriz de homogeneización de factores para decisión"]
["Tema:",{"$f":"Resultado!$B$2","v":0}]
[]
["Calificador I",{"$f":"Resultado!$G$5","v":0},null,null,"IANCA - Instituto Argentino de Negociación, "]
[{"$nulls":4},"Conciliación y Arbitraje "]
["Consideración de aspectos cualitativos o calificativos"]
["Aspecto",null,null,"Calificados"]
["Número ","Descripción","Puntaje",{"$f":"Resultado!$B$5","v":0},{"$f":"Resultado!$B$6","v":0},{"$f":"Resultado!$B$7","v":0},{"$f":"Resultado!$B$8","v":0},{"$f":"Resultado!$B$9","v":0},{"$f":"Resultado!$B$10","v":0}]
[1,{"$f":"Resultado!$B$15","v":0}]
[2,{"$f":"Resultado!$B16","v":0}]
[3,{"$f":"Resultado!$B17","v":0}]
[4,{"$f":"Resultado!$B18","v":0}]
[5,{"$f":"Resultado!$B19","v":0}]
[6,{"$f":"Resultado!$B20","v":0}]
[7,{"$f":"Resultado!$B21","v":0}]
[8,{"$f":"Resultado!$B22","v":0}]
[9,{"$f":"Resultado!$B23","v":0}]
[10,{"$f":"Resultado!$B24","v":0}]
[11,{"$f":"Resultado!$B25","v":0}]
[12,{"$f":"Resultado!$B26","v":0}]
[]
["Cuantitativos"]
[{"$f":"Resultado!A32","v":1},{"$f":"Resultado!B32","v":0}]
[{"$f":"Resultado!A33","v":2},{"$f":"Resultado!B33","v":0}]
[{"$f":"Resultado!A34","v":3},{"$f":"Resultado!B34","v":0}]
[{"$f":"Resultado!A35","v":4},{"$f":"Resultado!B35","v":0}]
[{"$f":"Resultado!A36","v":5},{"$f":"Resultado!B36","v":0}]
[{"$f":"Resultado!A37","v":6},{"$f":"Resultado!B37","v":0}]
[{"$f":"Resultado!A38","v":7},{"$f":"Resultado!B38","v":0}]
[{"$f":"Resultado!A39","v":8},{"$f":"Resultado!B39","v":0}]
[{"$f":"Resultado!A40","v":9},{"$f":"Resultado!B40","v":0}]
[{"$f":"Resultado!A41","v":10},{"$f":"Resultado!B41","v":0}]
[{"$f":"Resultado!A42","v":11},{"$f":"Resultado!B42","v":0}]
[{"$f":"Resultado!A43","v":12},{"$f":"Resultado!B43","v":0}]

{"sheet":"CAL II","index":2,"n_rows":34,"n_cols":9,"rows_kept":34,"merged":[[1,1,1,10],[6,0,6,2],[6,3,6,4],[21,0,21,2]]}
["Matriz de homogeneización de factores para decisión"]
["Tema:","Designación de autoridades para la consucción de la Comisión se Relaciones de Consumo"]
[]
["Calificador II",{"$f":"Resultado!$G$6","v":0},{"$nulls":3},"IANCA - Instituto Argentino de Negociación, "]
[{"$nulls":5},"Conciliación y Arbitraje "]
["Consideración de aspectos cualitativos o calificativos"]
["Aspecto",null,null,"Calificados"]
["Número ","Descripción","Puntaje",{"$f":"Resultado!$B$5","v":0},{"$f":"Resultado!$B$6","v":0},{"$f":"Resultado!$B$7","v":0},{"$f":"Resultado!$B$8","v":0},{"$f":"Resultado!$B$9","v":0},{"$f":"Resultado!$B$10","v":0}]
[1,{"$f":"Resultado!$B$15","v":0}]
[2,{"$f":"Resultado!$B16","v":0}]
[3,{"$f":"Resultado!$B17","v":0}]
[4,{"$f":"Resultado!$B18","v":0}]
[5,{"$f":"Resultado!$B19","v":0}]
[6,{"$f":"Resultado!$B20","v":0}]
[7,{"$f":"Resultado!$B21","v":0}]
[8,{"$f":"Resultado!$B22","v":0}]
[9,{"$f":"Resultado!$B23","v":0}]
[10,{"$f":"Resultado!$B24","v":0}]
[11,{"$f":"Resultado!$B25","v":0}]
[12,{"$f":"Resultado!$B26","v":0}]
[]
["Cuantitativos"]
[{"$f":"Resultado!A32","v":1},{"$f":"Resultado!B32","v":0}]
[{"$f":"Resultado!A33","v":2},{"$f":"Resultado!B33","v":0}]
[{"$f":"Resultado!A34","v":3},{"$f":"Resultado!B34","v":0}]
[{"$f":"Resultado!A35","v":4},{"$f":"Resultado!B35","v":0}]
[{"$f":"Resultado!A36","v":5},{"$f":"Resultado!B36","v":0}]
[{"$f":"Resultado!A37","v":6},{"$f":"Resultado!B37","v":0}]
[{"$f":"Resultado!A38","v":7},{"$f":"Resultado!B38","v":0}]
[{"$f":"Resultado!A39","v":8},{"$f":"Resultado!B39","v":0}]
[{"$f":"Resultado!A40","v":9},{"$f":"Resultado!B40","v":0}]
[{"$f":"Resultado!A41","v":10},{"$f":"Resultado!B41","v":0}]
[{"$f":"Resultado!A42","v":11},{"$f":"Resultado!B42","v":0}]
[{"$f":"Resultado!A43","v":12},{"$f":"Resultado!B43","v":0}]

{"sheet":"Cal III","index":3,"n_rows":34,"n_cols":9,"rows_kept":34,"merged":[[6,0,6,2],[6,3,6,4],[21,0,21,2]]}
["Matriz de homogeneización de factores para decisión"]
["Tema:","Designación de autoridades para la consucción de la Comisión se Relaciones de Consumo"]
[]
["Calificador III",{"$f":"Resultado!$G$7","v":0},{"$nulls":3},"IANCA - Instituto Argentino de Negociación, "]
[{"$nulls":5},"Conciliación y Arbitraje "]
["Consideración de aspectos cualitativos o calificativos"]
["Aspecto",null,null,"Calificados"]
["Número ","Descripción","Puntaje",{"$f":"Resultado!$B$5","v":0},{"$f":"Resultado!$B$6","v":0},{"$f":"Resultado!$B$7","v":0},{"$f":"Resultado!$B$8","v":0},{"$f":"Resultado!$B$9","v":0},{"$f":"Resultado!$B$10","v":0}]
[1,{"$f":"Resultado!$B$15","v":0}]
[2,{"$f":"Resultado!$B16","v":0}]
[3,{"$f":"Resultado!$B17","v":0}]
[4,{"$f":"Resultado!$B18","v":0}]
[5,{"$f":"Resultado!$B19","v":0}]
[6,{"$f":"Resultado!$B20","v":0}]
[7,{"$f":"Resultado!$B21","v":0}]
[8,{"$f":"Resultado!$B22","v":0}]
[9,{"$f":"Resultado!$B23","v":0}]
[10,{"$f":"Resultado!$B24","v":0}]
[11,{"$f":"Resultado!$B25","v":0}]
[12,{"$f":"Resultado!$B26","v":0}]
[]
["Cuantitativos"]
[{"$f":"Resultado!A32","v":1},{"$f":"Resultado!B32","v":0}]
[{"$f":"Resultado!A33","v":2},{"$f":"Resultado!B33","v":0}]
[{"$f":"Resultado!A34","v":3},{"$f":"Resultado!B34","v":0}]
[{"$f":"Resultado!A35","v":4},{"$f":"Resultado!B35","v":0}]
[{"$f":"Resultado!A36","v":5},{"$f":"Resultado!B36","v":0}]
[{"$f":"Resultado!A37","v":6},{"$f":"Resultado!B37","v":0}]
[{"$f":"Resultado!A38","v":7},{"$f":"Resultado!B38","v":0}]
[{"$f":"Resultado!A39","v":8},{"$f":"Resultado!B39","v":0}]
[{"$f":"Resultado!A40","v":9},{"$f":"Resultado!B40","v":0}]
[{"$f":"Resultado!A41","v":10},{"$f":"Resultado!B41","v":0}]
[{"$f":"Resultado!A42","v":11},{"$f":"Resultado!B42","v":0}]
[{"$f":"Resultado!A43","v":12},{"$f":"Resultado!B43","v":0}]

{"sheet":"Cal IV","index":4,"n_rows":34,"n_cols":9,"rows_kept":34,"merged":[[6,0,6,2],[6,3,6,4],[21,0,21,2]]}
["Matriz de homogeneización de factores para decisión"]
["Tema:","Designación de autoridades para la consucción de la Comisión se Relaciones de Consumo"]
[]
["Calificador IV",{"$f":"Resultado!$G$8","v":0},{"$nulls":3},"IANCA - Instituto Argentino de Negociación, "]
[{"$nulls":5},"Conciliación y Arbitraje "]
["Consideración de aspectos cualitativos o calificativos"]
["Aspecto",null,null,"Calificados"]
["Número ","Descripción","Puntaje",{"$f":"Resultado!$B$5","v":0},{"$f":"Resultado!$B$6","v":0},{"$f":"Resultado!$B$7","v":0},{"$f":"Resultado!$B$8","v":0},{"$f":"Resultado!$B$9","v":0},{"$f":"Resultado!$B$10","v":0}]
[1,{"$f":"Resultado!$B$15","v":0}]
[2,{"$f":"Resultado!$B16","v":0}]
[3,{"$f":"Resultado!$B17","v":0}]
[4,{"$f":"Resultado!$B18","v":0}]
[5,{"$f":"Resultado!$B19","v":0}]
[6,{"$f":"Resultado!$B20","v":0}]
[7,{"$f":"Resultado!$B21","v":0}]
[8,{"$f":"Resultado!$B22","v":0}]
[9,{"$f":"Resultado!$B23","v":0}]
[10,{"$f":"Resultado!$B24","v":0}]
[11,{"$f":"Resultado!$B25","v":0}]
[12,{"$f":"Resultado!$B26","v":0}]
[]
["Cuantitativos"]
[{"$f":"Resultado!A32","v":1},{"$f":"Resultado!B32","v":0}]
[{"$f":"Resultado!A33","v":2},{"$f":"Resultado!B33","v":0}]
[{"$f":"Resultado!A34","v":3},{"$f":"Resultado!B34","v":0}]
[{"$f":"Resultado!A35","v":4},{"$f":"Resultado!B35","v":0}]
[{"$f":"Resultado!A36","v":5},{"$f":"Resultado!B36","v":0}]
[{"$f":"Resultado!A37","v":6},{"$f":"Resultado!B37","v":0}]
[{"$f":"Resultado!A38","v":7},{"$f":"Resultado!B38","v":0}]
[{"$f":"Resultado!A39","v":8},{"$f":"Resultado!B39","v":0}]
[{"$f":"Resultado!A40","v":9},{"$f":"Resultado!B40","v":0}]
[{"$f":"Resultado!A41","v":10},{"$f":"Resultado!B41","v":0}]
[{"$f":"Resultado!A42","v":11},{"$f":"Resultado!B42","v":0}]
[{"$f":"Resultado!A43","v":12},{"$f":"Resultado!B43","v":0}]

{"sheet":"Cal V","index":5,"n_rows":34,"n_cols":9,"rows_kept":34,"merged":[[6,0,6,2],[6,3,6,4],[21,0,21,2]]}
["Matriz de homogeneización de factores para decisión"]
["Tema:","Designación de autoridades para la consucción de la Comisión se Relaciones de Consumo"]
[]
["Calificador V",{"$f":"Resultado!$G$9","v":0},{"$nulls":3},"IANCA - Instituto Argentino de Negociación, "]
[{"$nulls":5},"Conciliación y Arbitraje "]
["Consideración de aspectos cualitativos o calificativos"]
["Aspecto",null,null,"Calificados"]
["Número ","Descripción","Puntaje",{"$f":"Resultado!$B$5","v":0},{"$f":"Resultado!$B$6","v":0},{"$f":"Resultado!$B$7","v":0},{"$f":"Resultado!$B$8","v":0},{"$f":"Resultado!$B$9","v":0},{"$f":"Resultado!$B$10","v":0}]
[1,{"$f":"Resultado!$B$15","v":0}]
[2,{"$f":"Resultado!$B16","v":0}]
[3,{"$f":"Resultado!$B17","v":0}]
[4,{"$f":"Resultado!$B18","v":0}]
[5,{"$f":"Resultado!$B19","v":0}]
[6,{"$f":"Resultado!$B20","v":0}]
[7,{"$f":"Resultado!$B21","v":0}]
[8,{"$f":"Resultado!$B22","v":0}]
[9,{"$f":"Resultado!$B23","v":0}]
[10,{"$f":"Resultado!$B24","v":0}]
[11,{"$f":"Resultado!$B25","v":0}]
[12,{"$f":"Resultado!$B26","v":0}]
[]
["Cuantitativos"]
[{"$f":"Resultado!A32","v":1},{"$f":"Resultado!B32","v":0}]
[{"$f":"Resultado!A33","v":2},{"$f":"Resultado!B33","v":0}]
[{"$f":"Resultado!A34","v":3},{"$f":"Resultado!B34","v":0}]
[{"$f":"Resultado!A35","v":4},{"$f":"Resultado!B35","v":0}]
[{"$f":"Resultado!A36","v":5},{"$f":"Resultado!B36","v":0}]
[{"$f":"Resultado!A37","v":6},{"$f":"Resultado!B37","v":0}]
[{"$f":"Resultado!A38","v":7},{"$f":"Resultado!B38","v":0}]
[{"$f":"Resultado!A39","v":8},{"$f":"Resultado!B39","v":0}]
[{"$f":"Resultado!A40","v":9},{"$f":"Resultado!B40","v":0}]
[{"$f":"Resultado!A41","v":10},{"$f":"Resultado!B41","v":0}]
[{"$f":"Resultado!A42","v":11},{"$f":"Resultado!B42","v":0}]
[{"$f":"Resultado!A43","v":12},{"$f":"Resultado!B43","v":0}]

{"sheet":"Cal VI","index":6,"n_rows":34,"n_cols":9,"rows_kept":34,"merged":[[6,0,6,2],[6,3,6,4],[21,0,21,2]]}
["Matriz de homogeneización de factores para decisión"]
["Tema:","Designación de autoridades para la consucción de la Comisión se Relaciones de Consumo"]
[]
["Calificador VI",{"$f":"Resultado!$G$10","v":0},{"$nulls":3},"IANCA - Instituto Argentino de Negociación, "]
[{"$nulls":5},"Conciliación y Arbitraje "]
["Consideración de aspectos cualitativos o calificativos"]
["Aspecto",null,null,"Calificados"]
["Número ","Descripción","Puntaje",{"$f":"Resultado!$B$5","v":0},{"$f":"Resultado!$B$6","v":0},{"$f":"Resultado!$B$7","v":0},{"$f":"Resultado!$B$8","v":0},{"$f":"Resultado!$B$9","v":0},{"$f":"Resultado!$B$10","v":0}]
[1,{"$f":"Resultado!$B$15","v":0},null,0]
[2,{"$f":"Resultado!$B16","v":0}]
[3,{"$f":"Resultado!$B17","v":0}]
[4,{"$f":"Resultado!$B18","v":0}]
[5,{"$f":"Resultado!$B19","v":0}]
[6,{"$f":"Resultado!$B20","v":0}]
[7,{"$f":"Resultado!$B21","v":0}]
[8,{"$f":"Resultado!$B22","v":0}]
[9,{"$f":"Resultado!$B23","v":0}]
[10,{"$f":"Resultado!$B24","v":0}]
[11,{"$f":"Resultado!$B25","v":0}]
[12,{"$f":"Resultado!$B26","v":0}]
[]
["Cuantitativos"]
[{"$f":"Resultado!A32","v":1},{"$f":"Resultado!B32","v":0}]
[{"$f":"Resultado!A33","v":2},{"$f":"Resultado!B33","v":0}]
[{"$f":"Resultado!A34","v":3},{"$f":"Resultado!B34","v":0}]
[{"$f":"Resultado!A35","v":4},{"$f":"Resultado!B35","v":0}]
[{"$f":"Resultado!A36","v":5},{"$f":"Resultado!B36","v":0}]
[{"$f":"Resultado!A37","v":6},{"$f":"Resultado!B37","v":0}]
[{"$f":"Resultado!A38","v":7},{"$f":"Resultado!B38","v":0}]
[{"$f":"Resultado!A39","v":8},{"$f":"Resultado!B39","v":0}]
[{"$f":"Resultado!A40","v":9},{"$f":"Resultado!B40","v":0}]
[{"$f":"Resultado!A41","v":10},{"$f":"Resultado!B41","v":0}]
[{"$f":"Resultado!A42","v":11},{"$f":"Resultado!B42","v":0}]
[{"$f":"Resultado!A43","v":12},{"$f":"Resultado!B43","v":0}]